BEGIN:VCALENDAR
VERSION:2.0
PRODID:-//Mullet Hop Trampoline Park - ECPv6.15.20//NONSGML v1.0//EN
CALSCALE:GREGORIAN
METHOD:PUBLISH
X-ORIGINAL-URL:https://www.mullethop.com
X-WR-CALDESC:Events for Mullet Hop Trampoline Park
REFRESH-INTERVAL;VALUE=DURATION:PT1H
X-Robots-Tag:noindex
X-PUBLISHED-TTL:PT1H
BEGIN:VTIMEZONE
TZID:UTC
BEGIN:STANDARD
TZOFFSETFROM:+0000
TZOFFSETTO:+0000
TZNAME:UTC
DTSTART:20240101T000000
END:STANDARD
END:VTIMEZONE
BEGIN:VEVENT
DTSTART;TZID=UTC:20251019T110000
DTEND;TZID=UTC:20251019T190000
DTSTAMP:20260422T083016
CREATED:20241106T194250Z
LAST-MODIFIED:20241106T194351Z
UID:10001303-1760871600-1760900400@www.mullethop.com
SUMMARY:Mullet Hop Birthday Parties
DESCRIPTION:Party Times:\n11am to 1 pm\n2pm to 4pm\n5pm to 7pm \nCALL FOR AVAILABLITY
URL:https://www.mullethop.com/event/mullet-hop-birthday-parties-2/2025-10-19/
LOCATION:Mullet Hop Trampoline Park\, 3200 Mallett Road\, Suite G\, D'Iberville\, MS\, 39540\, United States
END:VEVENT
BEGIN:VEVENT
DTSTART;VALUE=DATE:20251021
DTEND;VALUE=DATE:20251022
DTSTAMP:20260422T083016
CREATED:20231214T233723Z
LAST-MODIFIED:20231214T233723Z
UID:10000418-1761004800-1761091199@www.mullethop.com
SUMMARY:2 for Tuesday!
DESCRIPTION:
URL:https://www.mullethop.com/event/2-for-tuesday/2025-10-21/
LOCATION:Mullet Hop Trampoline Park\, 3200 Mallett Road\, Suite G\, D'Iberville\, MS\, 39540\, United States
END:VEVENT
BEGIN:VEVENT
DTSTART;VALUE=DATE:20251023
DTEND;VALUE=DATE:20251024
DTSTAMP:20260422T083016
CREATED:20231214T233439Z
LAST-MODIFIED:20231214T233523Z
UID:10000154-1761177600-1761263999@www.mullethop.com
SUMMARY:$7 Thursday!
DESCRIPTION:
URL:https://www.mullethop.com/event/7-thursday/2025-10-23/
LOCATION:Mullet Hop Trampoline Park\, 3200 Mallett Road\, Suite G\, D'Iberville\, MS\, 39540\, United States
END:VEVENT
BEGIN:VEVENT
DTSTART;TZID=UTC:20251025T110000
DTEND;TZID=UTC:20251025T190000
DTSTAMP:20260422T083016
CREATED:20241106T194108Z
LAST-MODIFIED:20241106T194413Z
UID:10000782-1761390000-1761418800@www.mullethop.com
SUMMARY:Mullet Hop Birthday Parties
DESCRIPTION:Party Times:\n11am to 1 pm\n2pm to 4pm\n5pm to 7pm \nCALL FOR AVAILABLITY
URL:https://www.mullethop.com/event/mullet-hop-birthday-parties/2025-10-25/
LOCATION:Mullet Hop Trampoline Park\, 3200 Mallett Road\, Suite G\, D'Iberville\, MS\, 39540\, United States
END:VEVENT
BEGIN:VEVENT
DTSTART;TZID=UTC:20251026T110000
DTEND;TZID=UTC:20251026T190000
DTSTAMP:20260422T083016
CREATED:20241106T194250Z
LAST-MODIFIED:20241106T194351Z
UID:10001304-1761476400-1761505200@www.mullethop.com
SUMMARY:Mullet Hop Birthday Parties
DESCRIPTION:Party Times:\n11am to 1 pm\n2pm to 4pm\n5pm to 7pm \nCALL FOR AVAILABLITY
URL:https://www.mullethop.com/event/mullet-hop-birthday-parties-2/2025-10-26/
LOCATION:Mullet Hop Trampoline Park\, 3200 Mallett Road\, Suite G\, D'Iberville\, MS\, 39540\, United States
END:VEVENT
BEGIN:VEVENT
DTSTART;VALUE=DATE:20251028
DTEND;VALUE=DATE:20251029
DTSTAMP:20260422T083016
CREATED:20231214T233723Z
LAST-MODIFIED:20231214T233723Z
UID:10000419-1761609600-1761695999@www.mullethop.com
SUMMARY:2 for Tuesday!
DESCRIPTION:
URL:https://www.mullethop.com/event/2-for-tuesday/2025-10-28/
LOCATION:Mullet Hop Trampoline Park\, 3200 Mallett Road\, Suite G\, D'Iberville\, MS\, 39540\, United States
END:VEVENT
BEGIN:VEVENT
DTSTART;VALUE=DATE:20251030
DTEND;VALUE=DATE:20251031
DTSTAMP:20260422T083016
CREATED:20231214T233439Z
LAST-MODIFIED:20231214T233523Z
UID:10000155-1761782400-1761868799@www.mullethop.com
SUMMARY:$7 Thursday!
DESCRIPTION:
URL:https://www.mullethop.com/event/7-thursday/2025-10-30/
LOCATION:Mullet Hop Trampoline Park\, 3200 Mallett Road\, Suite G\, D'Iberville\, MS\, 39540\, United States
END:VEVENT
BEGIN:VEVENT
DTSTART;TZID=UTC:20251101T110000
DTEND;TZID=UTC:20251101T190000
DTSTAMP:20260422T083016
CREATED:20241106T194108Z
LAST-MODIFIED:20241106T194413Z
UID:10000783-1761994800-1762023600@www.mullethop.com
SUMMARY:Mullet Hop Birthday Parties
DESCRIPTION:Party Times:\n11am to 1 pm\n2pm to 4pm\n5pm to 7pm \nCALL FOR AVAILABLITY
URL:https://www.mullethop.com/event/mullet-hop-birthday-parties/2025-11-01/
LOCATION:Mullet Hop Trampoline Park\, 3200 Mallett Road\, Suite G\, D'Iberville\, MS\, 39540\, United States
END:VEVENT
BEGIN:VEVENT
DTSTART;TZID=UTC:20251102T110000
DTEND;TZID=UTC:20251102T190000
DTSTAMP:20260422T083016
CREATED:20241106T194250Z
LAST-MODIFIED:20241106T194351Z
UID:10001305-1762081200-1762110000@www.mullethop.com
SUMMARY:Mullet Hop Birthday Parties
DESCRIPTION:Party Times:\n11am to 1 pm\n2pm to 4pm\n5pm to 7pm \nCALL FOR AVAILABLITY
URL:https://www.mullethop.com/event/mullet-hop-birthday-parties-2/2025-11-02/
LOCATION:Mullet Hop Trampoline Park\, 3200 Mallett Road\, Suite G\, D'Iberville\, MS\, 39540\, United States
END:VEVENT
BEGIN:VEVENT
DTSTART;VALUE=DATE:20251104
DTEND;VALUE=DATE:20251105
DTSTAMP:20260422T083016
CREATED:20231214T233723Z
LAST-MODIFIED:20231214T233723Z
UID:10000420-1762214400-1762300799@www.mullethop.com
SUMMARY:2 for Tuesday!
DESCRIPTION:
URL:https://www.mullethop.com/event/2-for-tuesday/2025-11-04/
LOCATION:Mullet Hop Trampoline Park\, 3200 Mallett Road\, Suite G\, D'Iberville\, MS\, 39540\, United States
END:VEVENT
BEGIN:VEVENT
DTSTART;VALUE=DATE:20251106
DTEND;VALUE=DATE:20251107
DTSTAMP:20260422T083016
CREATED:20231214T233439Z
LAST-MODIFIED:20231214T233523Z
UID:10000156-1762387200-1762473599@www.mullethop.com
SUMMARY:$7 Thursday!
DESCRIPTION:
URL:https://www.mullethop.com/event/7-thursday/2025-11-06/
LOCATION:Mullet Hop Trampoline Park\, 3200 Mallett Road\, Suite G\, D'Iberville\, MS\, 39540\, United States
END:VEVENT
BEGIN:VEVENT
DTSTART;TZID=UTC:20251108T110000
DTEND;TZID=UTC:20251108T190000
DTSTAMP:20260422T083016
CREATED:20241106T194108Z
LAST-MODIFIED:20241106T194413Z
UID:10000784-1762599600-1762628400@www.mullethop.com
SUMMARY:Mullet Hop Birthday Parties
DESCRIPTION:Party Times:\n11am to 1 pm\n2pm to 4pm\n5pm to 7pm \nCALL FOR AVAILABLITY
URL:https://www.mullethop.com/event/mullet-hop-birthday-parties/2025-11-08/
LOCATION:Mullet Hop Trampoline Park\, 3200 Mallett Road\, Suite G\, D'Iberville\, MS\, 39540\, United States
END:VEVENT
BEGIN:VEVENT
DTSTART;TZID=UTC:20251109T110000
DTEND;TZID=UTC:20251109T190000
DTSTAMP:20260422T083016
CREATED:20241106T194250Z
LAST-MODIFIED:20241106T194351Z
UID:10001306-1762686000-1762714800@www.mullethop.com
SUMMARY:Mullet Hop Birthday Parties
DESCRIPTION:Party Times:\n11am to 1 pm\n2pm to 4pm\n5pm to 7pm \nCALL FOR AVAILABLITY
URL:https://www.mullethop.com/event/mullet-hop-birthday-parties-2/2025-11-09/
LOCATION:Mullet Hop Trampoline Park\, 3200 Mallett Road\, Suite G\, D'Iberville\, MS\, 39540\, United States
END:VEVENT
BEGIN:VEVENT
DTSTART;VALUE=DATE:20251111
DTEND;VALUE=DATE:20251112
DTSTAMP:20260422T083016
CREATED:20231214T233723Z
LAST-MODIFIED:20231214T233723Z
UID:10000421-1762819200-1762905599@www.mullethop.com
SUMMARY:2 for Tuesday!
DESCRIPTION:
URL:https://www.mullethop.com/event/2-for-tuesday/2025-11-11/
LOCATION:Mullet Hop Trampoline Park\, 3200 Mallett Road\, Suite G\, D'Iberville\, MS\, 39540\, United States
END:VEVENT
BEGIN:VEVENT
DTSTART;VALUE=DATE:20251113
DTEND;VALUE=DATE:20251114
DTSTAMP:20260422T083016
CREATED:20231214T233439Z
LAST-MODIFIED:20231214T233523Z
UID:10000157-1762992000-1763078399@www.mullethop.com
SUMMARY:$7 Thursday!
DESCRIPTION:
URL:https://www.mullethop.com/event/7-thursday/2025-11-13/
LOCATION:Mullet Hop Trampoline Park\, 3200 Mallett Road\, Suite G\, D'Iberville\, MS\, 39540\, United States
END:VEVENT
BEGIN:VEVENT
DTSTART;TZID=UTC:20251115T110000
DTEND;TZID=UTC:20251115T190000
DTSTAMP:20260422T083016
CREATED:20241106T194108Z
LAST-MODIFIED:20241106T194413Z
UID:10000785-1763204400-1763233200@www.mullethop.com
SUMMARY:Mullet Hop Birthday Parties
DESCRIPTION:Party Times:\n11am to 1 pm\n2pm to 4pm\n5pm to 7pm \nCALL FOR AVAILABLITY
URL:https://www.mullethop.com/event/mullet-hop-birthday-parties/2025-11-15/
LOCATION:Mullet Hop Trampoline Park\, 3200 Mallett Road\, Suite G\, D'Iberville\, MS\, 39540\, United States
END:VEVENT
BEGIN:VEVENT
DTSTART;TZID=UTC:20251116T110000
DTEND;TZID=UTC:20251116T190000
DTSTAMP:20260422T083016
CREATED:20241106T194250Z
LAST-MODIFIED:20241106T194351Z
UID:10001307-1763290800-1763319600@www.mullethop.com
SUMMARY:Mullet Hop Birthday Parties
DESCRIPTION:Party Times:\n11am to 1 pm\n2pm to 4pm\n5pm to 7pm \nCALL FOR AVAILABLITY
URL:https://www.mullethop.com/event/mullet-hop-birthday-parties-2/2025-11-16/
LOCATION:Mullet Hop Trampoline Park\, 3200 Mallett Road\, Suite G\, D'Iberville\, MS\, 39540\, United States
END:VEVENT
BEGIN:VEVENT
DTSTART;VALUE=DATE:20251118
DTEND;VALUE=DATE:20251119
DTSTAMP:20260422T083016
CREATED:20231214T233723Z
LAST-MODIFIED:20231214T233723Z
UID:10000422-1763424000-1763510399@www.mullethop.com
SUMMARY:2 for Tuesday!
DESCRIPTION:
URL:https://www.mullethop.com/event/2-for-tuesday/2025-11-18/
LOCATION:Mullet Hop Trampoline Park\, 3200 Mallett Road\, Suite G\, D'Iberville\, MS\, 39540\, United States
END:VEVENT
BEGIN:VEVENT
DTSTART;VALUE=DATE:20251120
DTEND;VALUE=DATE:20251121
DTSTAMP:20260422T083016
CREATED:20231214T233439Z
LAST-MODIFIED:20231214T233523Z
UID:10000158-1763596800-1763683199@www.mullethop.com
SUMMARY:$7 Thursday!
DESCRIPTION:
URL:https://www.mullethop.com/event/7-thursday/2025-11-20/
LOCATION:Mullet Hop Trampoline Park\, 3200 Mallett Road\, Suite G\, D'Iberville\, MS\, 39540\, United States
END:VEVENT
BEGIN:VEVENT
DTSTART;TZID=UTC:20251122T110000
DTEND;TZID=UTC:20251122T190000
DTSTAMP:20260422T083016
CREATED:20241106T194108Z
LAST-MODIFIED:20241106T194413Z
UID:10000786-1763809200-1763838000@www.mullethop.com
SUMMARY:Mullet Hop Birthday Parties
DESCRIPTION:Party Times:\n11am to 1 pm\n2pm to 4pm\n5pm to 7pm \nCALL FOR AVAILABLITY
URL:https://www.mullethop.com/event/mullet-hop-birthday-parties/2025-11-22/
LOCATION:Mullet Hop Trampoline Park\, 3200 Mallett Road\, Suite G\, D'Iberville\, MS\, 39540\, United States
END:VEVENT
BEGIN:VEVENT
DTSTART;TZID=UTC:20251123T110000
DTEND;TZID=UTC:20251123T190000
DTSTAMP:20260422T083016
CREATED:20241106T194250Z
LAST-MODIFIED:20241106T194351Z
UID:10001308-1763895600-1763924400@www.mullethop.com
SUMMARY:Mullet Hop Birthday Parties
DESCRIPTION:Party Times:\n11am to 1 pm\n2pm to 4pm\n5pm to 7pm \nCALL FOR AVAILABLITY
URL:https://www.mullethop.com/event/mullet-hop-birthday-parties-2/2025-11-23/
LOCATION:Mullet Hop Trampoline Park\, 3200 Mallett Road\, Suite G\, D'Iberville\, MS\, 39540\, United States
END:VEVENT
BEGIN:VEVENT
DTSTART;VALUE=DATE:20251125
DTEND;VALUE=DATE:20251126
DTSTAMP:20260422T083016
CREATED:20231214T233723Z
LAST-MODIFIED:20231214T233723Z
UID:10000423-1764028800-1764115199@www.mullethop.com
SUMMARY:2 for Tuesday!
DESCRIPTION:
URL:https://www.mullethop.com/event/2-for-tuesday/2025-11-25/
LOCATION:Mullet Hop Trampoline Park\, 3200 Mallett Road\, Suite G\, D'Iberville\, MS\, 39540\, United States
END:VEVENT
BEGIN:VEVENT
DTSTART;VALUE=DATE:20251127
DTEND;VALUE=DATE:20251128
DTSTAMP:20260422T083016
CREATED:20231214T233439Z
LAST-MODIFIED:20231214T233523Z
UID:10000159-1764201600-1764287999@www.mullethop.com
SUMMARY:$7 Thursday!
DESCRIPTION:
URL:https://www.mullethop.com/event/7-thursday/2025-11-27/
LOCATION:Mullet Hop Trampoline Park\, 3200 Mallett Road\, Suite G\, D'Iberville\, MS\, 39540\, United States
END:VEVENT
BEGIN:VEVENT
DTSTART;TZID=UTC:20251129T110000
DTEND;TZID=UTC:20251129T190000
DTSTAMP:20260422T083016
CREATED:20241106T194108Z
LAST-MODIFIED:20241106T194413Z
UID:10000787-1764414000-1764442800@www.mullethop.com
SUMMARY:Mullet Hop Birthday Parties
DESCRIPTION:Party Times:\n11am to 1 pm\n2pm to 4pm\n5pm to 7pm \nCALL FOR AVAILABLITY
URL:https://www.mullethop.com/event/mullet-hop-birthday-parties/2025-11-29/
LOCATION:Mullet Hop Trampoline Park\, 3200 Mallett Road\, Suite G\, D'Iberville\, MS\, 39540\, United States
END:VEVENT
BEGIN:VEVENT
DTSTART;TZID=UTC:20251130T110000
DTEND;TZID=UTC:20251130T190000
DTSTAMP:20260422T083016
CREATED:20241106T194250Z
LAST-MODIFIED:20241106T194351Z
UID:10001309-1764500400-1764529200@www.mullethop.com
SUMMARY:Mullet Hop Birthday Parties
DESCRIPTION:Party Times:\n11am to 1 pm\n2pm to 4pm\n5pm to 7pm \nCALL FOR AVAILABLITY
URL:https://www.mullethop.com/event/mullet-hop-birthday-parties-2/2025-11-30/
LOCATION:Mullet Hop Trampoline Park\, 3200 Mallett Road\, Suite G\, D'Iberville\, MS\, 39540\, United States
END:VEVENT
BEGIN:VEVENT
DTSTART;VALUE=DATE:20251202
DTEND;VALUE=DATE:20251203
DTSTAMP:20260422T083016
CREATED:20231214T233723Z
LAST-MODIFIED:20231214T233723Z
UID:10000424-1764633600-1764719999@www.mullethop.com
SUMMARY:2 for Tuesday!
DESCRIPTION:
URL:https://www.mullethop.com/event/2-for-tuesday/2025-12-02/
LOCATION:Mullet Hop Trampoline Park\, 3200 Mallett Road\, Suite G\, D'Iberville\, MS\, 39540\, United States
END:VEVENT
BEGIN:VEVENT
DTSTART;VALUE=DATE:20251204
DTEND;VALUE=DATE:20251205
DTSTAMP:20260422T083016
CREATED:20231214T233439Z
LAST-MODIFIED:20231214T233523Z
UID:10000160-1764806400-1764892799@www.mullethop.com
SUMMARY:$7 Thursday!
DESCRIPTION:
URL:https://www.mullethop.com/event/7-thursday/2025-12-04/
LOCATION:Mullet Hop Trampoline Park\, 3200 Mallett Road\, Suite G\, D'Iberville\, MS\, 39540\, United States
END:VEVENT
BEGIN:VEVENT
DTSTART;TZID=UTC:20251206T110000
DTEND;TZID=UTC:20251206T190000
DTSTAMP:20260422T083016
CREATED:20241106T194108Z
LAST-MODIFIED:20241106T194413Z
UID:10000788-1765018800-1765047600@www.mullethop.com
SUMMARY:Mullet Hop Birthday Parties
DESCRIPTION:Party Times:\n11am to 1 pm\n2pm to 4pm\n5pm to 7pm \nCALL FOR AVAILABLITY
URL:https://www.mullethop.com/event/mullet-hop-birthday-parties/2025-12-06/
LOCATION:Mullet Hop Trampoline Park\, 3200 Mallett Road\, Suite G\, D'Iberville\, MS\, 39540\, United States
END:VEVENT
BEGIN:VEVENT
DTSTART;TZID=UTC:20251207T110000
DTEND;TZID=UTC:20251207T190000
DTSTAMP:20260422T083016
CREATED:20241106T194250Z
LAST-MODIFIED:20241106T194351Z
UID:10001310-1765105200-1765134000@www.mullethop.com
SUMMARY:Mullet Hop Birthday Parties
DESCRIPTION:Party Times:\n11am to 1 pm\n2pm to 4pm\n5pm to 7pm \nCALL FOR AVAILABLITY
URL:https://www.mullethop.com/event/mullet-hop-birthday-parties-2/2025-12-07/
LOCATION:Mullet Hop Trampoline Park\, 3200 Mallett Road\, Suite G\, D'Iberville\, MS\, 39540\, United States
END:VEVENT
BEGIN:VEVENT
DTSTART;VALUE=DATE:20251209
DTEND;VALUE=DATE:20251210
DTSTAMP:20260422T083016
CREATED:20231214T233723Z
LAST-MODIFIED:20231214T233723Z
UID:10000425-1765238400-1765324799@www.mullethop.com
SUMMARY:2 for Tuesday!
DESCRIPTION:
URL:https://www.mullethop.com/event/2-for-tuesday/2025-12-09/
LOCATION:Mullet Hop Trampoline Park\, 3200 Mallett Road\, Suite G\, D'Iberville\, MS\, 39540\, United States
END:VEVENT
END:VCALENDAR