BEGIN:VCALENDAR
VERSION:2.0
PRODID:-//Mullet Hop Trampoline Park - ECPv6.15.20//NONSGML v1.0//EN
CALSCALE:GREGORIAN
METHOD:PUBLISH
X-ORIGINAL-URL:https://www.mullethop.com
X-WR-CALDESC:Events for Mullet Hop Trampoline Park
REFRESH-INTERVAL;VALUE=DURATION:PT1H
X-Robots-Tag:noindex
X-PUBLISHED-TTL:PT1H
BEGIN:VTIMEZONE
TZID:UTC
BEGIN:STANDARD
TZOFFSETFROM:+0000
TZOFFSETTO:+0000
TZNAME:UTC
DTSTART:20240101T000000
END:STANDARD
END:VTIMEZONE
BEGIN:VEVENT
DTSTART;TZID=UTC:20251221T110000
DTEND;TZID=UTC:20251221T190000
DTSTAMP:20260422T142919
CREATED:20241106T194250Z
LAST-MODIFIED:20241106T194351Z
UID:10001312-1766314800-1766343600@www.mullethop.com
SUMMARY:Mullet Hop Birthday Parties
DESCRIPTION:Party Times:\n11am to 1 pm\n2pm to 4pm\n5pm to 7pm \nCALL FOR AVAILABLITY
URL:https://www.mullethop.com/event/mullet-hop-birthday-parties-2/2025-12-21/
LOCATION:Mullet Hop Trampoline Park\, 3200 Mallett Road\, Suite G\, D'Iberville\, MS\, 39540\, United States
END:VEVENT
BEGIN:VEVENT
DTSTART;VALUE=DATE:20251223
DTEND;VALUE=DATE:20251224
DTSTAMP:20260422T142919
CREATED:20231214T233723Z
LAST-MODIFIED:20231214T233723Z
UID:10000427-1766448000-1766534399@www.mullethop.com
SUMMARY:2 for Tuesday!
DESCRIPTION:
URL:https://www.mullethop.com/event/2-for-tuesday/2025-12-23/
LOCATION:Mullet Hop Trampoline Park\, 3200 Mallett Road\, Suite G\, D'Iberville\, MS\, 39540\, United States
END:VEVENT
BEGIN:VEVENT
DTSTART;VALUE=DATE:20251225
DTEND;VALUE=DATE:20251226
DTSTAMP:20260422T142919
CREATED:20231214T233439Z
LAST-MODIFIED:20231214T233523Z
UID:10000163-1766620800-1766707199@www.mullethop.com
SUMMARY:$7 Thursday!
DESCRIPTION:
URL:https://www.mullethop.com/event/7-thursday/2025-12-25/
LOCATION:Mullet Hop Trampoline Park\, 3200 Mallett Road\, Suite G\, D'Iberville\, MS\, 39540\, United States
END:VEVENT
BEGIN:VEVENT
DTSTART;TZID=UTC:20251227T110000
DTEND;TZID=UTC:20251227T190000
DTSTAMP:20260422T142919
CREATED:20241106T194108Z
LAST-MODIFIED:20241106T194413Z
UID:10000791-1766833200-1766862000@www.mullethop.com
SUMMARY:Mullet Hop Birthday Parties
DESCRIPTION:Party Times:\n11am to 1 pm\n2pm to 4pm\n5pm to 7pm \nCALL FOR AVAILABLITY
URL:https://www.mullethop.com/event/mullet-hop-birthday-parties/2025-12-27/
LOCATION:Mullet Hop Trampoline Park\, 3200 Mallett Road\, Suite G\, D'Iberville\, MS\, 39540\, United States
END:VEVENT
BEGIN:VEVENT
DTSTART;TZID=UTC:20251228T110000
DTEND;TZID=UTC:20251228T190000
DTSTAMP:20260422T142919
CREATED:20241106T194250Z
LAST-MODIFIED:20241106T194351Z
UID:10001313-1766919600-1766948400@www.mullethop.com
SUMMARY:Mullet Hop Birthday Parties
DESCRIPTION:Party Times:\n11am to 1 pm\n2pm to 4pm\n5pm to 7pm \nCALL FOR AVAILABLITY
URL:https://www.mullethop.com/event/mullet-hop-birthday-parties-2/2025-12-28/
LOCATION:Mullet Hop Trampoline Park\, 3200 Mallett Road\, Suite G\, D'Iberville\, MS\, 39540\, United States
END:VEVENT
BEGIN:VEVENT
DTSTART;VALUE=DATE:20251230
DTEND;VALUE=DATE:20251231
DTSTAMP:20260422T142919
CREATED:20231214T233723Z
LAST-MODIFIED:20231214T233723Z
UID:10000428-1767052800-1767139199@www.mullethop.com
SUMMARY:2 for Tuesday!
DESCRIPTION:
URL:https://www.mullethop.com/event/2-for-tuesday/2025-12-30/
LOCATION:Mullet Hop Trampoline Park\, 3200 Mallett Road\, Suite G\, D'Iberville\, MS\, 39540\, United States
END:VEVENT
BEGIN:VEVENT
DTSTART;VALUE=DATE:20260101
DTEND;VALUE=DATE:20260102
DTSTAMP:20260422T142919
CREATED:20231214T233439Z
LAST-MODIFIED:20231214T233523Z
UID:10000164-1767225600-1767311999@www.mullethop.com
SUMMARY:$7 Thursday!
DESCRIPTION:
URL:https://www.mullethop.com/event/7-thursday/2026-01-01/
LOCATION:Mullet Hop Trampoline Park\, 3200 Mallett Road\, Suite G\, D'Iberville\, MS\, 39540\, United States
END:VEVENT
BEGIN:VEVENT
DTSTART;TZID=UTC:20260103T110000
DTEND;TZID=UTC:20260103T190000
DTSTAMP:20260422T142919
CREATED:20241106T194108Z
LAST-MODIFIED:20241106T194413Z
UID:10000792-1767438000-1767466800@www.mullethop.com
SUMMARY:Mullet Hop Birthday Parties
DESCRIPTION:Party Times:\n11am to 1 pm\n2pm to 4pm\n5pm to 7pm \nCALL FOR AVAILABLITY
URL:https://www.mullethop.com/event/mullet-hop-birthday-parties/2026-01-03/
LOCATION:Mullet Hop Trampoline Park\, 3200 Mallett Road\, Suite G\, D'Iberville\, MS\, 39540\, United States
END:VEVENT
BEGIN:VEVENT
DTSTART;TZID=UTC:20260104T110000
DTEND;TZID=UTC:20260104T190000
DTSTAMP:20260422T142919
CREATED:20241106T194250Z
LAST-MODIFIED:20241106T194351Z
UID:10001314-1767524400-1767553200@www.mullethop.com
SUMMARY:Mullet Hop Birthday Parties
DESCRIPTION:Party Times:\n11am to 1 pm\n2pm to 4pm\n5pm to 7pm \nCALL FOR AVAILABLITY
URL:https://www.mullethop.com/event/mullet-hop-birthday-parties-2/2026-01-04/
LOCATION:Mullet Hop Trampoline Park\, 3200 Mallett Road\, Suite G\, D'Iberville\, MS\, 39540\, United States
END:VEVENT
BEGIN:VEVENT
DTSTART;VALUE=DATE:20260106
DTEND;VALUE=DATE:20260107
DTSTAMP:20260422T142919
CREATED:20231214T233723Z
LAST-MODIFIED:20231214T233723Z
UID:10000429-1767657600-1767743999@www.mullethop.com
SUMMARY:2 for Tuesday!
DESCRIPTION:
URL:https://www.mullethop.com/event/2-for-tuesday/2026-01-06/
LOCATION:Mullet Hop Trampoline Park\, 3200 Mallett Road\, Suite G\, D'Iberville\, MS\, 39540\, United States
END:VEVENT
BEGIN:VEVENT
DTSTART;VALUE=DATE:20260108
DTEND;VALUE=DATE:20260109
DTSTAMP:20260422T142919
CREATED:20231214T233439Z
LAST-MODIFIED:20231214T233523Z
UID:10000165-1767830400-1767916799@www.mullethop.com
SUMMARY:$7 Thursday!
DESCRIPTION:
URL:https://www.mullethop.com/event/7-thursday/2026-01-08/
LOCATION:Mullet Hop Trampoline Park\, 3200 Mallett Road\, Suite G\, D'Iberville\, MS\, 39540\, United States
END:VEVENT
BEGIN:VEVENT
DTSTART;TZID=UTC:20260110T110000
DTEND;TZID=UTC:20260110T190000
DTSTAMP:20260422T142919
CREATED:20241106T194108Z
LAST-MODIFIED:20241106T194413Z
UID:10000793-1768042800-1768071600@www.mullethop.com
SUMMARY:Mullet Hop Birthday Parties
DESCRIPTION:Party Times:\n11am to 1 pm\n2pm to 4pm\n5pm to 7pm \nCALL FOR AVAILABLITY
URL:https://www.mullethop.com/event/mullet-hop-birthday-parties/2026-01-10/
LOCATION:Mullet Hop Trampoline Park\, 3200 Mallett Road\, Suite G\, D'Iberville\, MS\, 39540\, United States
END:VEVENT
BEGIN:VEVENT
DTSTART;TZID=UTC:20260111T110000
DTEND;TZID=UTC:20260111T190000
DTSTAMP:20260422T142919
CREATED:20241106T194250Z
LAST-MODIFIED:20241106T194351Z
UID:10001315-1768129200-1768158000@www.mullethop.com
SUMMARY:Mullet Hop Birthday Parties
DESCRIPTION:Party Times:\n11am to 1 pm\n2pm to 4pm\n5pm to 7pm \nCALL FOR AVAILABLITY
URL:https://www.mullethop.com/event/mullet-hop-birthday-parties-2/2026-01-11/
LOCATION:Mullet Hop Trampoline Park\, 3200 Mallett Road\, Suite G\, D'Iberville\, MS\, 39540\, United States
END:VEVENT
BEGIN:VEVENT
DTSTART;VALUE=DATE:20260113
DTEND;VALUE=DATE:20260114
DTSTAMP:20260422T142919
CREATED:20231214T233723Z
LAST-MODIFIED:20231214T233723Z
UID:10000430-1768262400-1768348799@www.mullethop.com
SUMMARY:2 for Tuesday!
DESCRIPTION:
URL:https://www.mullethop.com/event/2-for-tuesday/2026-01-13/
LOCATION:Mullet Hop Trampoline Park\, 3200 Mallett Road\, Suite G\, D'Iberville\, MS\, 39540\, United States
END:VEVENT
BEGIN:VEVENT
DTSTART;VALUE=DATE:20260115
DTEND;VALUE=DATE:20260116
DTSTAMP:20260422T142919
CREATED:20231214T233439Z
LAST-MODIFIED:20231214T233523Z
UID:10000166-1768435200-1768521599@www.mullethop.com
SUMMARY:$7 Thursday!
DESCRIPTION:
URL:https://www.mullethop.com/event/7-thursday/2026-01-15/
LOCATION:Mullet Hop Trampoline Park\, 3200 Mallett Road\, Suite G\, D'Iberville\, MS\, 39540\, United States
END:VEVENT
BEGIN:VEVENT
DTSTART;TZID=UTC:20260117T110000
DTEND;TZID=UTC:20260117T190000
DTSTAMP:20260422T142919
CREATED:20241106T194108Z
LAST-MODIFIED:20241106T194413Z
UID:10000794-1768647600-1768676400@www.mullethop.com
SUMMARY:Mullet Hop Birthday Parties
DESCRIPTION:Party Times:\n11am to 1 pm\n2pm to 4pm\n5pm to 7pm \nCALL FOR AVAILABLITY
URL:https://www.mullethop.com/event/mullet-hop-birthday-parties/2026-01-17/
LOCATION:Mullet Hop Trampoline Park\, 3200 Mallett Road\, Suite G\, D'Iberville\, MS\, 39540\, United States
END:VEVENT
BEGIN:VEVENT
DTSTART;TZID=UTC:20260118T110000
DTEND;TZID=UTC:20260118T190000
DTSTAMP:20260422T142919
CREATED:20241106T194250Z
LAST-MODIFIED:20241106T194351Z
UID:10001316-1768734000-1768762800@www.mullethop.com
SUMMARY:Mullet Hop Birthday Parties
DESCRIPTION:Party Times:\n11am to 1 pm\n2pm to 4pm\n5pm to 7pm \nCALL FOR AVAILABLITY
URL:https://www.mullethop.com/event/mullet-hop-birthday-parties-2/2026-01-18/
LOCATION:Mullet Hop Trampoline Park\, 3200 Mallett Road\, Suite G\, D'Iberville\, MS\, 39540\, United States
END:VEVENT
BEGIN:VEVENT
DTSTART;VALUE=DATE:20260120
DTEND;VALUE=DATE:20260121
DTSTAMP:20260422T142919
CREATED:20231214T233723Z
LAST-MODIFIED:20231214T233723Z
UID:10000431-1768867200-1768953599@www.mullethop.com
SUMMARY:2 for Tuesday!
DESCRIPTION:
URL:https://www.mullethop.com/event/2-for-tuesday/2026-01-20/
LOCATION:Mullet Hop Trampoline Park\, 3200 Mallett Road\, Suite G\, D'Iberville\, MS\, 39540\, United States
END:VEVENT
BEGIN:VEVENT
DTSTART;VALUE=DATE:20260122
DTEND;VALUE=DATE:20260123
DTSTAMP:20260422T142919
CREATED:20231214T233439Z
LAST-MODIFIED:20231214T233523Z
UID:10000167-1769040000-1769126399@www.mullethop.com
SUMMARY:$7 Thursday!
DESCRIPTION:
URL:https://www.mullethop.com/event/7-thursday/2026-01-22/
LOCATION:Mullet Hop Trampoline Park\, 3200 Mallett Road\, Suite G\, D'Iberville\, MS\, 39540\, United States
END:VEVENT
BEGIN:VEVENT
DTSTART;TZID=UTC:20260124T110000
DTEND;TZID=UTC:20260124T190000
DTSTAMP:20260422T142919
CREATED:20241106T194108Z
LAST-MODIFIED:20241106T194413Z
UID:10000795-1769252400-1769281200@www.mullethop.com
SUMMARY:Mullet Hop Birthday Parties
DESCRIPTION:Party Times:\n11am to 1 pm\n2pm to 4pm\n5pm to 7pm \nCALL FOR AVAILABLITY
URL:https://www.mullethop.com/event/mullet-hop-birthday-parties/2026-01-24/
LOCATION:Mullet Hop Trampoline Park\, 3200 Mallett Road\, Suite G\, D'Iberville\, MS\, 39540\, United States
END:VEVENT
BEGIN:VEVENT
DTSTART;TZID=UTC:20260125T110000
DTEND;TZID=UTC:20260125T190000
DTSTAMP:20260422T142919
CREATED:20241106T194250Z
LAST-MODIFIED:20241106T194351Z
UID:10001317-1769338800-1769367600@www.mullethop.com
SUMMARY:Mullet Hop Birthday Parties
DESCRIPTION:Party Times:\n11am to 1 pm\n2pm to 4pm\n5pm to 7pm \nCALL FOR AVAILABLITY
URL:https://www.mullethop.com/event/mullet-hop-birthday-parties-2/2026-01-25/
LOCATION:Mullet Hop Trampoline Park\, 3200 Mallett Road\, Suite G\, D'Iberville\, MS\, 39540\, United States
END:VEVENT
BEGIN:VEVENT
DTSTART;VALUE=DATE:20260127
DTEND;VALUE=DATE:20260128
DTSTAMP:20260422T142919
CREATED:20231214T233723Z
LAST-MODIFIED:20231214T233723Z
UID:10000432-1769472000-1769558399@www.mullethop.com
SUMMARY:2 for Tuesday!
DESCRIPTION:
URL:https://www.mullethop.com/event/2-for-tuesday/2026-01-27/
LOCATION:Mullet Hop Trampoline Park\, 3200 Mallett Road\, Suite G\, D'Iberville\, MS\, 39540\, United States
END:VEVENT
BEGIN:VEVENT
DTSTART;VALUE=DATE:20260129
DTEND;VALUE=DATE:20260130
DTSTAMP:20260422T142919
CREATED:20231214T233439Z
LAST-MODIFIED:20231214T233523Z
UID:10000168-1769644800-1769731199@www.mullethop.com
SUMMARY:$7 Thursday!
DESCRIPTION:
URL:https://www.mullethop.com/event/7-thursday/2026-01-29/
LOCATION:Mullet Hop Trampoline Park\, 3200 Mallett Road\, Suite G\, D'Iberville\, MS\, 39540\, United States
END:VEVENT
BEGIN:VEVENT
DTSTART;TZID=UTC:20260131T110000
DTEND;TZID=UTC:20260131T190000
DTSTAMP:20260422T142919
CREATED:20241106T194108Z
LAST-MODIFIED:20241106T194413Z
UID:10000796-1769857200-1769886000@www.mullethop.com
SUMMARY:Mullet Hop Birthday Parties
DESCRIPTION:Party Times:\n11am to 1 pm\n2pm to 4pm\n5pm to 7pm \nCALL FOR AVAILABLITY
URL:https://www.mullethop.com/event/mullet-hop-birthday-parties/2026-01-31/
LOCATION:Mullet Hop Trampoline Park\, 3200 Mallett Road\, Suite G\, D'Iberville\, MS\, 39540\, United States
END:VEVENT
BEGIN:VEVENT
DTSTART;TZID=UTC:20260201T110000
DTEND;TZID=UTC:20260201T190000
DTSTAMP:20260422T142919
CREATED:20241106T194250Z
LAST-MODIFIED:20241106T194351Z
UID:10001318-1769943600-1769972400@www.mullethop.com
SUMMARY:Mullet Hop Birthday Parties
DESCRIPTION:Party Times:\n11am to 1 pm\n2pm to 4pm\n5pm to 7pm \nCALL FOR AVAILABLITY
URL:https://www.mullethop.com/event/mullet-hop-birthday-parties-2/2026-02-01/
LOCATION:Mullet Hop Trampoline Park\, 3200 Mallett Road\, Suite G\, D'Iberville\, MS\, 39540\, United States
END:VEVENT
BEGIN:VEVENT
DTSTART;VALUE=DATE:20260203
DTEND;VALUE=DATE:20260204
DTSTAMP:20260422T142919
CREATED:20231214T233723Z
LAST-MODIFIED:20231214T233723Z
UID:10000433-1770076800-1770163199@www.mullethop.com
SUMMARY:2 for Tuesday!
DESCRIPTION:
URL:https://www.mullethop.com/event/2-for-tuesday/2026-02-03/
LOCATION:Mullet Hop Trampoline Park\, 3200 Mallett Road\, Suite G\, D'Iberville\, MS\, 39540\, United States
END:VEVENT
BEGIN:VEVENT
DTSTART;VALUE=DATE:20260205
DTEND;VALUE=DATE:20260206
DTSTAMP:20260422T142919
CREATED:20231214T233439Z
LAST-MODIFIED:20231214T233523Z
UID:10000169-1770249600-1770335999@www.mullethop.com
SUMMARY:$7 Thursday!
DESCRIPTION:
URL:https://www.mullethop.com/event/7-thursday/2026-02-05/
LOCATION:Mullet Hop Trampoline Park\, 3200 Mallett Road\, Suite G\, D'Iberville\, MS\, 39540\, United States
END:VEVENT
BEGIN:VEVENT
DTSTART;TZID=UTC:20260207T110000
DTEND;TZID=UTC:20260207T190000
DTSTAMP:20260422T142919
CREATED:20241106T194108Z
LAST-MODIFIED:20241106T194413Z
UID:10000797-1770462000-1770490800@www.mullethop.com
SUMMARY:Mullet Hop Birthday Parties
DESCRIPTION:Party Times:\n11am to 1 pm\n2pm to 4pm\n5pm to 7pm \nCALL FOR AVAILABLITY
URL:https://www.mullethop.com/event/mullet-hop-birthday-parties/2026-02-07/
LOCATION:Mullet Hop Trampoline Park\, 3200 Mallett Road\, Suite G\, D'Iberville\, MS\, 39540\, United States
END:VEVENT
BEGIN:VEVENT
DTSTART;TZID=UTC:20260208T110000
DTEND;TZID=UTC:20260208T190000
DTSTAMP:20260422T142919
CREATED:20241106T194250Z
LAST-MODIFIED:20241106T194351Z
UID:10001319-1770548400-1770577200@www.mullethop.com
SUMMARY:Mullet Hop Birthday Parties
DESCRIPTION:Party Times:\n11am to 1 pm\n2pm to 4pm\n5pm to 7pm \nCALL FOR AVAILABLITY
URL:https://www.mullethop.com/event/mullet-hop-birthday-parties-2/2026-02-08/
LOCATION:Mullet Hop Trampoline Park\, 3200 Mallett Road\, Suite G\, D'Iberville\, MS\, 39540\, United States
END:VEVENT
BEGIN:VEVENT
DTSTART;VALUE=DATE:20260210
DTEND;VALUE=DATE:20260211
DTSTAMP:20260422T142919
CREATED:20231214T233723Z
LAST-MODIFIED:20231214T233723Z
UID:10000434-1770681600-1770767999@www.mullethop.com
SUMMARY:2 for Tuesday!
DESCRIPTION:
URL:https://www.mullethop.com/event/2-for-tuesday/2026-02-10/
LOCATION:Mullet Hop Trampoline Park\, 3200 Mallett Road\, Suite G\, D'Iberville\, MS\, 39540\, United States
END:VEVENT
END:VCALENDAR