BEGIN:VCALENDAR
VERSION:2.0
PRODID:-//Mullet Hop Trampoline Park - ECPv6.15.17.1//NONSGML v1.0//EN
CALSCALE:GREGORIAN
METHOD:PUBLISH
X-ORIGINAL-URL:https://www.mullethop.com
X-WR-CALDESC:Events for Mullet Hop Trampoline Park
REFRESH-INTERVAL;VALUE=DURATION:PT1H
X-Robots-Tag:noindex
X-PUBLISHED-TTL:PT1H
BEGIN:VTIMEZONE
TZID:UTC
BEGIN:STANDARD
TZOFFSETFROM:+0000
TZOFFSETTO:+0000
TZNAME:UTC
DTSTART:20240101T000000
END:STANDARD
END:VTIMEZONE
BEGIN:VEVENT
DTSTART;TZID=UTC:20250920T110000
DTEND;TZID=UTC:20250920T190000
DTSTAMP:20260419T211908
CREATED:20241106T194108Z
LAST-MODIFIED:20241106T194413Z
UID:10000777-1758366000-1758394800@www.mullethop.com
SUMMARY:Mullet Hop Birthday Parties
DESCRIPTION:Party Times:\n11am to 1 pm\n2pm to 4pm\n5pm to 7pm \nCALL FOR AVAILABLITY
URL:https://www.mullethop.com/event/mullet-hop-birthday-parties/2025-09-20/
LOCATION:Mullet Hop Trampoline Park\, 3200 Mallett Road\, Suite G\, D'Iberville\, MS\, 39540\, United States
END:VEVENT
BEGIN:VEVENT
DTSTART;TZID=UTC:20250921T110000
DTEND;TZID=UTC:20250921T190000
DTSTAMP:20260419T211908
CREATED:20241106T194250Z
LAST-MODIFIED:20241106T194351Z
UID:10001299-1758452400-1758481200@www.mullethop.com
SUMMARY:Mullet Hop Birthday Parties
DESCRIPTION:Party Times:\n11am to 1 pm\n2pm to 4pm\n5pm to 7pm \nCALL FOR AVAILABLITY
URL:https://www.mullethop.com/event/mullet-hop-birthday-parties-2/2025-09-21/
LOCATION:Mullet Hop Trampoline Park\, 3200 Mallett Road\, Suite G\, D'Iberville\, MS\, 39540\, United States
END:VEVENT
BEGIN:VEVENT
DTSTART;VALUE=DATE:20250923
DTEND;VALUE=DATE:20250924
DTSTAMP:20260419T211908
CREATED:20231214T233723Z
LAST-MODIFIED:20231214T233723Z
UID:10000414-1758585600-1758671999@www.mullethop.com
SUMMARY:2 for Tuesday!
DESCRIPTION:
URL:https://www.mullethop.com/event/2-for-tuesday/2025-09-23/
LOCATION:Mullet Hop Trampoline Park\, 3200 Mallett Road\, Suite G\, D'Iberville\, MS\, 39540\, United States
END:VEVENT
BEGIN:VEVENT
DTSTART;VALUE=DATE:20250925
DTEND;VALUE=DATE:20250926
DTSTAMP:20260419T211908
CREATED:20231214T233439Z
LAST-MODIFIED:20231214T233523Z
UID:10000150-1758758400-1758844799@www.mullethop.com
SUMMARY:$7 Thursday!
DESCRIPTION:
URL:https://www.mullethop.com/event/7-thursday/2025-09-25/
LOCATION:Mullet Hop Trampoline Park\, 3200 Mallett Road\, Suite G\, D'Iberville\, MS\, 39540\, United States
END:VEVENT
BEGIN:VEVENT
DTSTART;TZID=UTC:20250927T110000
DTEND;TZID=UTC:20250927T190000
DTSTAMP:20260419T211908
CREATED:20241106T194108Z
LAST-MODIFIED:20241106T194413Z
UID:10000778-1758970800-1758999600@www.mullethop.com
SUMMARY:Mullet Hop Birthday Parties
DESCRIPTION:Party Times:\n11am to 1 pm\n2pm to 4pm\n5pm to 7pm \nCALL FOR AVAILABLITY
URL:https://www.mullethop.com/event/mullet-hop-birthday-parties/2025-09-27/
LOCATION:Mullet Hop Trampoline Park\, 3200 Mallett Road\, Suite G\, D'Iberville\, MS\, 39540\, United States
END:VEVENT
BEGIN:VEVENT
DTSTART;TZID=UTC:20250928T110000
DTEND;TZID=UTC:20250928T190000
DTSTAMP:20260419T211908
CREATED:20241106T194250Z
LAST-MODIFIED:20241106T194351Z
UID:10001300-1759057200-1759086000@www.mullethop.com
SUMMARY:Mullet Hop Birthday Parties
DESCRIPTION:Party Times:\n11am to 1 pm\n2pm to 4pm\n5pm to 7pm \nCALL FOR AVAILABLITY
URL:https://www.mullethop.com/event/mullet-hop-birthday-parties-2/2025-09-28/
LOCATION:Mullet Hop Trampoline Park\, 3200 Mallett Road\, Suite G\, D'Iberville\, MS\, 39540\, United States
END:VEVENT
BEGIN:VEVENT
DTSTART;VALUE=DATE:20250930
DTEND;VALUE=DATE:20251001
DTSTAMP:20260419T211908
CREATED:20231214T233723Z
LAST-MODIFIED:20231214T233723Z
UID:10000415-1759190400-1759276799@www.mullethop.com
SUMMARY:2 for Tuesday!
DESCRIPTION:
URL:https://www.mullethop.com/event/2-for-tuesday/2025-09-30/
LOCATION:Mullet Hop Trampoline Park\, 3200 Mallett Road\, Suite G\, D'Iberville\, MS\, 39540\, United States
END:VEVENT
BEGIN:VEVENT
DTSTART;VALUE=DATE:20251002
DTEND;VALUE=DATE:20251003
DTSTAMP:20260419T211908
CREATED:20231214T233439Z
LAST-MODIFIED:20231214T233523Z
UID:10000151-1759363200-1759449599@www.mullethop.com
SUMMARY:$7 Thursday!
DESCRIPTION:
URL:https://www.mullethop.com/event/7-thursday/2025-10-02/
LOCATION:Mullet Hop Trampoline Park\, 3200 Mallett Road\, Suite G\, D'Iberville\, MS\, 39540\, United States
END:VEVENT
BEGIN:VEVENT
DTSTART;TZID=UTC:20251004T110000
DTEND;TZID=UTC:20251004T190000
DTSTAMP:20260419T211908
CREATED:20241106T194108Z
LAST-MODIFIED:20241106T194413Z
UID:10000779-1759575600-1759604400@www.mullethop.com
SUMMARY:Mullet Hop Birthday Parties
DESCRIPTION:Party Times:\n11am to 1 pm\n2pm to 4pm\n5pm to 7pm \nCALL FOR AVAILABLITY
URL:https://www.mullethop.com/event/mullet-hop-birthday-parties/2025-10-04/
LOCATION:Mullet Hop Trampoline Park\, 3200 Mallett Road\, Suite G\, D'Iberville\, MS\, 39540\, United States
END:VEVENT
BEGIN:VEVENT
DTSTART;TZID=UTC:20251005T110000
DTEND;TZID=UTC:20251005T190000
DTSTAMP:20260419T211908
CREATED:20241106T194250Z
LAST-MODIFIED:20241106T194351Z
UID:10001301-1759662000-1759690800@www.mullethop.com
SUMMARY:Mullet Hop Birthday Parties
DESCRIPTION:Party Times:\n11am to 1 pm\n2pm to 4pm\n5pm to 7pm \nCALL FOR AVAILABLITY
URL:https://www.mullethop.com/event/mullet-hop-birthday-parties-2/2025-10-05/
LOCATION:Mullet Hop Trampoline Park\, 3200 Mallett Road\, Suite G\, D'Iberville\, MS\, 39540\, United States
END:VEVENT
BEGIN:VEVENT
DTSTART;VALUE=DATE:20251007
DTEND;VALUE=DATE:20251008
DTSTAMP:20260419T211908
CREATED:20231214T233723Z
LAST-MODIFIED:20231214T233723Z
UID:10000416-1759795200-1759881599@www.mullethop.com
SUMMARY:2 for Tuesday!
DESCRIPTION:
URL:https://www.mullethop.com/event/2-for-tuesday/2025-10-07/
LOCATION:Mullet Hop Trampoline Park\, 3200 Mallett Road\, Suite G\, D'Iberville\, MS\, 39540\, United States
END:VEVENT
BEGIN:VEVENT
DTSTART;VALUE=DATE:20251009
DTEND;VALUE=DATE:20251010
DTSTAMP:20260419T211908
CREATED:20231214T233439Z
LAST-MODIFIED:20231214T233523Z
UID:10000152-1759968000-1760054399@www.mullethop.com
SUMMARY:$7 Thursday!
DESCRIPTION:
URL:https://www.mullethop.com/event/7-thursday/2025-10-09/
LOCATION:Mullet Hop Trampoline Park\, 3200 Mallett Road\, Suite G\, D'Iberville\, MS\, 39540\, United States
END:VEVENT
BEGIN:VEVENT
DTSTART;TZID=UTC:20251011T110000
DTEND;TZID=UTC:20251011T190000
DTSTAMP:20260419T211908
CREATED:20241106T194108Z
LAST-MODIFIED:20241106T194413Z
UID:10000780-1760180400-1760209200@www.mullethop.com
SUMMARY:Mullet Hop Birthday Parties
DESCRIPTION:Party Times:\n11am to 1 pm\n2pm to 4pm\n5pm to 7pm \nCALL FOR AVAILABLITY
URL:https://www.mullethop.com/event/mullet-hop-birthday-parties/2025-10-11/
LOCATION:Mullet Hop Trampoline Park\, 3200 Mallett Road\, Suite G\, D'Iberville\, MS\, 39540\, United States
END:VEVENT
BEGIN:VEVENT
DTSTART;TZID=UTC:20251012T110000
DTEND;TZID=UTC:20251012T190000
DTSTAMP:20260419T211908
CREATED:20241106T194250Z
LAST-MODIFIED:20241106T194351Z
UID:10001302-1760266800-1760295600@www.mullethop.com
SUMMARY:Mullet Hop Birthday Parties
DESCRIPTION:Party Times:\n11am to 1 pm\n2pm to 4pm\n5pm to 7pm \nCALL FOR AVAILABLITY
URL:https://www.mullethop.com/event/mullet-hop-birthday-parties-2/2025-10-12/
LOCATION:Mullet Hop Trampoline Park\, 3200 Mallett Road\, Suite G\, D'Iberville\, MS\, 39540\, United States
END:VEVENT
BEGIN:VEVENT
DTSTART;VALUE=DATE:20251014
DTEND;VALUE=DATE:20251015
DTSTAMP:20260419T211908
CREATED:20231214T233723Z
LAST-MODIFIED:20231214T233723Z
UID:10000417-1760400000-1760486399@www.mullethop.com
SUMMARY:2 for Tuesday!
DESCRIPTION:
URL:https://www.mullethop.com/event/2-for-tuesday/2025-10-14/
LOCATION:Mullet Hop Trampoline Park\, 3200 Mallett Road\, Suite G\, D'Iberville\, MS\, 39540\, United States
END:VEVENT
BEGIN:VEVENT
DTSTART;VALUE=DATE:20251016
DTEND;VALUE=DATE:20251017
DTSTAMP:20260419T211908
CREATED:20231214T233439Z
LAST-MODIFIED:20231214T233523Z
UID:10000153-1760572800-1760659199@www.mullethop.com
SUMMARY:$7 Thursday!
DESCRIPTION:
URL:https://www.mullethop.com/event/7-thursday/2025-10-16/
LOCATION:Mullet Hop Trampoline Park\, 3200 Mallett Road\, Suite G\, D'Iberville\, MS\, 39540\, United States
END:VEVENT
BEGIN:VEVENT
DTSTART;TZID=UTC:20251018T110000
DTEND;TZID=UTC:20251018T190000
DTSTAMP:20260419T211908
CREATED:20241106T194108Z
LAST-MODIFIED:20241106T194413Z
UID:10000781-1760785200-1760814000@www.mullethop.com
SUMMARY:Mullet Hop Birthday Parties
DESCRIPTION:Party Times:\n11am to 1 pm\n2pm to 4pm\n5pm to 7pm \nCALL FOR AVAILABLITY
URL:https://www.mullethop.com/event/mullet-hop-birthday-parties/2025-10-18/
LOCATION:Mullet Hop Trampoline Park\, 3200 Mallett Road\, Suite G\, D'Iberville\, MS\, 39540\, United States
END:VEVENT
BEGIN:VEVENT
DTSTART;TZID=UTC:20251019T110000
DTEND;TZID=UTC:20251019T190000
DTSTAMP:20260419T211908
CREATED:20241106T194250Z
LAST-MODIFIED:20241106T194351Z
UID:10001303-1760871600-1760900400@www.mullethop.com
SUMMARY:Mullet Hop Birthday Parties
DESCRIPTION:Party Times:\n11am to 1 pm\n2pm to 4pm\n5pm to 7pm \nCALL FOR AVAILABLITY
URL:https://www.mullethop.com/event/mullet-hop-birthday-parties-2/2025-10-19/
LOCATION:Mullet Hop Trampoline Park\, 3200 Mallett Road\, Suite G\, D'Iberville\, MS\, 39540\, United States
END:VEVENT
BEGIN:VEVENT
DTSTART;VALUE=DATE:20251021
DTEND;VALUE=DATE:20251022
DTSTAMP:20260419T211908
CREATED:20231214T233723Z
LAST-MODIFIED:20231214T233723Z
UID:10000418-1761004800-1761091199@www.mullethop.com
SUMMARY:2 for Tuesday!
DESCRIPTION:
URL:https://www.mullethop.com/event/2-for-tuesday/2025-10-21/
LOCATION:Mullet Hop Trampoline Park\, 3200 Mallett Road\, Suite G\, D'Iberville\, MS\, 39540\, United States
END:VEVENT
BEGIN:VEVENT
DTSTART;VALUE=DATE:20251023
DTEND;VALUE=DATE:20251024
DTSTAMP:20260419T211908
CREATED:20231214T233439Z
LAST-MODIFIED:20231214T233523Z
UID:10000154-1761177600-1761263999@www.mullethop.com
SUMMARY:$7 Thursday!
DESCRIPTION:
URL:https://www.mullethop.com/event/7-thursday/2025-10-23/
LOCATION:Mullet Hop Trampoline Park\, 3200 Mallett Road\, Suite G\, D'Iberville\, MS\, 39540\, United States
END:VEVENT
BEGIN:VEVENT
DTSTART;TZID=UTC:20251025T110000
DTEND;TZID=UTC:20251025T190000
DTSTAMP:20260419T211908
CREATED:20241106T194108Z
LAST-MODIFIED:20241106T194413Z
UID:10000782-1761390000-1761418800@www.mullethop.com
SUMMARY:Mullet Hop Birthday Parties
DESCRIPTION:Party Times:\n11am to 1 pm\n2pm to 4pm\n5pm to 7pm \nCALL FOR AVAILABLITY
URL:https://www.mullethop.com/event/mullet-hop-birthday-parties/2025-10-25/
LOCATION:Mullet Hop Trampoline Park\, 3200 Mallett Road\, Suite G\, D'Iberville\, MS\, 39540\, United States
END:VEVENT
BEGIN:VEVENT
DTSTART;TZID=UTC:20251026T110000
DTEND;TZID=UTC:20251026T190000
DTSTAMP:20260419T211908
CREATED:20241106T194250Z
LAST-MODIFIED:20241106T194351Z
UID:10001304-1761476400-1761505200@www.mullethop.com
SUMMARY:Mullet Hop Birthday Parties
DESCRIPTION:Party Times:\n11am to 1 pm\n2pm to 4pm\n5pm to 7pm \nCALL FOR AVAILABLITY
URL:https://www.mullethop.com/event/mullet-hop-birthday-parties-2/2025-10-26/
LOCATION:Mullet Hop Trampoline Park\, 3200 Mallett Road\, Suite G\, D'Iberville\, MS\, 39540\, United States
END:VEVENT
BEGIN:VEVENT
DTSTART;VALUE=DATE:20251028
DTEND;VALUE=DATE:20251029
DTSTAMP:20260419T211908
CREATED:20231214T233723Z
LAST-MODIFIED:20231214T233723Z
UID:10000419-1761609600-1761695999@www.mullethop.com
SUMMARY:2 for Tuesday!
DESCRIPTION:
URL:https://www.mullethop.com/event/2-for-tuesday/2025-10-28/
LOCATION:Mullet Hop Trampoline Park\, 3200 Mallett Road\, Suite G\, D'Iberville\, MS\, 39540\, United States
END:VEVENT
BEGIN:VEVENT
DTSTART;VALUE=DATE:20251030
DTEND;VALUE=DATE:20251031
DTSTAMP:20260419T211908
CREATED:20231214T233439Z
LAST-MODIFIED:20231214T233523Z
UID:10000155-1761782400-1761868799@www.mullethop.com
SUMMARY:$7 Thursday!
DESCRIPTION:
URL:https://www.mullethop.com/event/7-thursday/2025-10-30/
LOCATION:Mullet Hop Trampoline Park\, 3200 Mallett Road\, Suite G\, D'Iberville\, MS\, 39540\, United States
END:VEVENT
BEGIN:VEVENT
DTSTART;TZID=UTC:20251101T110000
DTEND;TZID=UTC:20251101T190000
DTSTAMP:20260419T211908
CREATED:20241106T194108Z
LAST-MODIFIED:20241106T194413Z
UID:10000783-1761994800-1762023600@www.mullethop.com
SUMMARY:Mullet Hop Birthday Parties
DESCRIPTION:Party Times:\n11am to 1 pm\n2pm to 4pm\n5pm to 7pm \nCALL FOR AVAILABLITY
URL:https://www.mullethop.com/event/mullet-hop-birthday-parties/2025-11-01/
LOCATION:Mullet Hop Trampoline Park\, 3200 Mallett Road\, Suite G\, D'Iberville\, MS\, 39540\, United States
END:VEVENT
BEGIN:VEVENT
DTSTART;TZID=UTC:20251102T110000
DTEND;TZID=UTC:20251102T190000
DTSTAMP:20260419T211908
CREATED:20241106T194250Z
LAST-MODIFIED:20241106T194351Z
UID:10001305-1762081200-1762110000@www.mullethop.com
SUMMARY:Mullet Hop Birthday Parties
DESCRIPTION:Party Times:\n11am to 1 pm\n2pm to 4pm\n5pm to 7pm \nCALL FOR AVAILABLITY
URL:https://www.mullethop.com/event/mullet-hop-birthday-parties-2/2025-11-02/
LOCATION:Mullet Hop Trampoline Park\, 3200 Mallett Road\, Suite G\, D'Iberville\, MS\, 39540\, United States
END:VEVENT
BEGIN:VEVENT
DTSTART;VALUE=DATE:20251104
DTEND;VALUE=DATE:20251105
DTSTAMP:20260419T211908
CREATED:20231214T233723Z
LAST-MODIFIED:20231214T233723Z
UID:10000420-1762214400-1762300799@www.mullethop.com
SUMMARY:2 for Tuesday!
DESCRIPTION:
URL:https://www.mullethop.com/event/2-for-tuesday/2025-11-04/
LOCATION:Mullet Hop Trampoline Park\, 3200 Mallett Road\, Suite G\, D'Iberville\, MS\, 39540\, United States
END:VEVENT
BEGIN:VEVENT
DTSTART;VALUE=DATE:20251106
DTEND;VALUE=DATE:20251107
DTSTAMP:20260419T211908
CREATED:20231214T233439Z
LAST-MODIFIED:20231214T233523Z
UID:10000156-1762387200-1762473599@www.mullethop.com
SUMMARY:$7 Thursday!
DESCRIPTION:
URL:https://www.mullethop.com/event/7-thursday/2025-11-06/
LOCATION:Mullet Hop Trampoline Park\, 3200 Mallett Road\, Suite G\, D'Iberville\, MS\, 39540\, United States
END:VEVENT
BEGIN:VEVENT
DTSTART;TZID=UTC:20251108T110000
DTEND;TZID=UTC:20251108T190000
DTSTAMP:20260419T211908
CREATED:20241106T194108Z
LAST-MODIFIED:20241106T194413Z
UID:10000784-1762599600-1762628400@www.mullethop.com
SUMMARY:Mullet Hop Birthday Parties
DESCRIPTION:Party Times:\n11am to 1 pm\n2pm to 4pm\n5pm to 7pm \nCALL FOR AVAILABLITY
URL:https://www.mullethop.com/event/mullet-hop-birthday-parties/2025-11-08/
LOCATION:Mullet Hop Trampoline Park\, 3200 Mallett Road\, Suite G\, D'Iberville\, MS\, 39540\, United States
END:VEVENT
BEGIN:VEVENT
DTSTART;TZID=UTC:20251109T110000
DTEND;TZID=UTC:20251109T190000
DTSTAMP:20260419T211908
CREATED:20241106T194250Z
LAST-MODIFIED:20241106T194351Z
UID:10001306-1762686000-1762714800@www.mullethop.com
SUMMARY:Mullet Hop Birthday Parties
DESCRIPTION:Party Times:\n11am to 1 pm\n2pm to 4pm\n5pm to 7pm \nCALL FOR AVAILABLITY
URL:https://www.mullethop.com/event/mullet-hop-birthday-parties-2/2025-11-09/
LOCATION:Mullet Hop Trampoline Park\, 3200 Mallett Road\, Suite G\, D'Iberville\, MS\, 39540\, United States
END:VEVENT
END:VCALENDAR