BEGIN:VCALENDAR
VERSION:2.0
PRODID:-//Mullet Hop Trampoline Park - ECPv6.15.20//NONSGML v1.0//EN
CALSCALE:GREGORIAN
METHOD:PUBLISH
X-ORIGINAL-URL:https://www.mullethop.com
X-WR-CALDESC:Events for Mullet Hop Trampoline Park
REFRESH-INTERVAL;VALUE=DURATION:PT1H
X-Robots-Tag:noindex
X-PUBLISHED-TTL:PT1H
BEGIN:VTIMEZONE
TZID:UTC
BEGIN:STANDARD
TZOFFSETFROM:+0000
TZOFFSETTO:+0000
TZNAME:UTC
DTSTART:20250101T000000
END:STANDARD
END:VTIMEZONE
BEGIN:VEVENT
DTSTART;TZID=UTC:20260201T110000
DTEND;TZID=UTC:20260201T190000
DTSTAMP:20260422T181721
CREATED:20241106T194250Z
LAST-MODIFIED:20241106T194351Z
UID:10001318-1769943600-1769972400@www.mullethop.com
SUMMARY:Mullet Hop Birthday Parties
DESCRIPTION:Party Times:\n11am to 1 pm\n2pm to 4pm\n5pm to 7pm \nCALL FOR AVAILABLITY
URL:https://www.mullethop.com/event/mullet-hop-birthday-parties-2/2026-02-01/
LOCATION:Mullet Hop Trampoline Park\, 3200 Mallett Road\, Suite G\, D'Iberville\, MS\, 39540\, United States
END:VEVENT
BEGIN:VEVENT
DTSTART;VALUE=DATE:20260203
DTEND;VALUE=DATE:20260204
DTSTAMP:20260422T181721
CREATED:20231214T233723Z
LAST-MODIFIED:20231214T233723Z
UID:10000433-1770076800-1770163199@www.mullethop.com
SUMMARY:2 for Tuesday!
DESCRIPTION:
URL:https://www.mullethop.com/event/2-for-tuesday/2026-02-03/
LOCATION:Mullet Hop Trampoline Park\, 3200 Mallett Road\, Suite G\, D'Iberville\, MS\, 39540\, United States
END:VEVENT
BEGIN:VEVENT
DTSTART;VALUE=DATE:20260205
DTEND;VALUE=DATE:20260206
DTSTAMP:20260422T181721
CREATED:20231214T233439Z
LAST-MODIFIED:20231214T233523Z
UID:10000169-1770249600-1770335999@www.mullethop.com
SUMMARY:$7 Thursday!
DESCRIPTION:
URL:https://www.mullethop.com/event/7-thursday/2026-02-05/
LOCATION:Mullet Hop Trampoline Park\, 3200 Mallett Road\, Suite G\, D'Iberville\, MS\, 39540\, United States
END:VEVENT
BEGIN:VEVENT
DTSTART;TZID=UTC:20260207T110000
DTEND;TZID=UTC:20260207T190000
DTSTAMP:20260422T181721
CREATED:20241106T194108Z
LAST-MODIFIED:20241106T194413Z
UID:10000797-1770462000-1770490800@www.mullethop.com
SUMMARY:Mullet Hop Birthday Parties
DESCRIPTION:Party Times:\n11am to 1 pm\n2pm to 4pm\n5pm to 7pm \nCALL FOR AVAILABLITY
URL:https://www.mullethop.com/event/mullet-hop-birthday-parties/2026-02-07/
LOCATION:Mullet Hop Trampoline Park\, 3200 Mallett Road\, Suite G\, D'Iberville\, MS\, 39540\, United States
END:VEVENT
BEGIN:VEVENT
DTSTART;TZID=UTC:20260208T110000
DTEND;TZID=UTC:20260208T190000
DTSTAMP:20260422T181721
CREATED:20241106T194250Z
LAST-MODIFIED:20241106T194351Z
UID:10001319-1770548400-1770577200@www.mullethop.com
SUMMARY:Mullet Hop Birthday Parties
DESCRIPTION:Party Times:\n11am to 1 pm\n2pm to 4pm\n5pm to 7pm \nCALL FOR AVAILABLITY
URL:https://www.mullethop.com/event/mullet-hop-birthday-parties-2/2026-02-08/
LOCATION:Mullet Hop Trampoline Park\, 3200 Mallett Road\, Suite G\, D'Iberville\, MS\, 39540\, United States
END:VEVENT
BEGIN:VEVENT
DTSTART;VALUE=DATE:20260210
DTEND;VALUE=DATE:20260211
DTSTAMP:20260422T181721
CREATED:20231214T233723Z
LAST-MODIFIED:20231214T233723Z
UID:10000434-1770681600-1770767999@www.mullethop.com
SUMMARY:2 for Tuesday!
DESCRIPTION:
URL:https://www.mullethop.com/event/2-for-tuesday/2026-02-10/
LOCATION:Mullet Hop Trampoline Park\, 3200 Mallett Road\, Suite G\, D'Iberville\, MS\, 39540\, United States
END:VEVENT
BEGIN:VEVENT
DTSTART;VALUE=DATE:20260212
DTEND;VALUE=DATE:20260213
DTSTAMP:20260422T181721
CREATED:20231214T233439Z
LAST-MODIFIED:20231214T233523Z
UID:10000170-1770854400-1770940799@www.mullethop.com
SUMMARY:$7 Thursday!
DESCRIPTION:
URL:https://www.mullethop.com/event/7-thursday/2026-02-12/
LOCATION:Mullet Hop Trampoline Park\, 3200 Mallett Road\, Suite G\, D'Iberville\, MS\, 39540\, United States
END:VEVENT
BEGIN:VEVENT
DTSTART;TZID=UTC:20260214T110000
DTEND;TZID=UTC:20260214T190000
DTSTAMP:20260422T181721
CREATED:20241106T194108Z
LAST-MODIFIED:20241106T194413Z
UID:10000798-1771066800-1771095600@www.mullethop.com
SUMMARY:Mullet Hop Birthday Parties
DESCRIPTION:Party Times:\n11am to 1 pm\n2pm to 4pm\n5pm to 7pm \nCALL FOR AVAILABLITY
URL:https://www.mullethop.com/event/mullet-hop-birthday-parties/2026-02-14/
LOCATION:Mullet Hop Trampoline Park\, 3200 Mallett Road\, Suite G\, D'Iberville\, MS\, 39540\, United States
END:VEVENT
BEGIN:VEVENT
DTSTART;TZID=UTC:20260215T110000
DTEND;TZID=UTC:20260215T190000
DTSTAMP:20260422T181721
CREATED:20241106T194250Z
LAST-MODIFIED:20241106T194351Z
UID:10001320-1771153200-1771182000@www.mullethop.com
SUMMARY:Mullet Hop Birthday Parties
DESCRIPTION:Party Times:\n11am to 1 pm\n2pm to 4pm\n5pm to 7pm \nCALL FOR AVAILABLITY
URL:https://www.mullethop.com/event/mullet-hop-birthday-parties-2/2026-02-15/
LOCATION:Mullet Hop Trampoline Park\, 3200 Mallett Road\, Suite G\, D'Iberville\, MS\, 39540\, United States
END:VEVENT
BEGIN:VEVENT
DTSTART;VALUE=DATE:20260217
DTEND;VALUE=DATE:20260218
DTSTAMP:20260422T181721
CREATED:20231214T233723Z
LAST-MODIFIED:20231214T233723Z
UID:10000435-1771286400-1771372799@www.mullethop.com
SUMMARY:2 for Tuesday!
DESCRIPTION:
URL:https://www.mullethop.com/event/2-for-tuesday/2026-02-17/
LOCATION:Mullet Hop Trampoline Park\, 3200 Mallett Road\, Suite G\, D'Iberville\, MS\, 39540\, United States
END:VEVENT
BEGIN:VEVENT
DTSTART;VALUE=DATE:20260219
DTEND;VALUE=DATE:20260220
DTSTAMP:20260422T181721
CREATED:20231214T233439Z
LAST-MODIFIED:20231214T233523Z
UID:10000171-1771459200-1771545599@www.mullethop.com
SUMMARY:$7 Thursday!
DESCRIPTION:
URL:https://www.mullethop.com/event/7-thursday/2026-02-19/
LOCATION:Mullet Hop Trampoline Park\, 3200 Mallett Road\, Suite G\, D'Iberville\, MS\, 39540\, United States
END:VEVENT
BEGIN:VEVENT
DTSTART;TZID=UTC:20260221T110000
DTEND;TZID=UTC:20260221T190000
DTSTAMP:20260422T181721
CREATED:20241106T194108Z
LAST-MODIFIED:20241106T194413Z
UID:10000799-1771671600-1771700400@www.mullethop.com
SUMMARY:Mullet Hop Birthday Parties
DESCRIPTION:Party Times:\n11am to 1 pm\n2pm to 4pm\n5pm to 7pm \nCALL FOR AVAILABLITY
URL:https://www.mullethop.com/event/mullet-hop-birthday-parties/2026-02-21/
LOCATION:Mullet Hop Trampoline Park\, 3200 Mallett Road\, Suite G\, D'Iberville\, MS\, 39540\, United States
END:VEVENT
BEGIN:VEVENT
DTSTART;TZID=UTC:20260222T110000
DTEND;TZID=UTC:20260222T190000
DTSTAMP:20260422T181721
CREATED:20241106T194250Z
LAST-MODIFIED:20241106T194351Z
UID:10001321-1771758000-1771786800@www.mullethop.com
SUMMARY:Mullet Hop Birthday Parties
DESCRIPTION:Party Times:\n11am to 1 pm\n2pm to 4pm\n5pm to 7pm \nCALL FOR AVAILABLITY
URL:https://www.mullethop.com/event/mullet-hop-birthday-parties-2/2026-02-22/
LOCATION:Mullet Hop Trampoline Park\, 3200 Mallett Road\, Suite G\, D'Iberville\, MS\, 39540\, United States
END:VEVENT
BEGIN:VEVENT
DTSTART;VALUE=DATE:20260224
DTEND;VALUE=DATE:20260225
DTSTAMP:20260422T181721
CREATED:20231214T233723Z
LAST-MODIFIED:20231214T233723Z
UID:10000436-1771891200-1771977599@www.mullethop.com
SUMMARY:2 for Tuesday!
DESCRIPTION:
URL:https://www.mullethop.com/event/2-for-tuesday/2026-02-24/
LOCATION:Mullet Hop Trampoline Park\, 3200 Mallett Road\, Suite G\, D'Iberville\, MS\, 39540\, United States
END:VEVENT
BEGIN:VEVENT
DTSTART;VALUE=DATE:20260226
DTEND;VALUE=DATE:20260227
DTSTAMP:20260422T181721
CREATED:20231214T233439Z
LAST-MODIFIED:20231214T233523Z
UID:10000172-1772064000-1772150399@www.mullethop.com
SUMMARY:$7 Thursday!
DESCRIPTION:
URL:https://www.mullethop.com/event/7-thursday/2026-02-26/
LOCATION:Mullet Hop Trampoline Park\, 3200 Mallett Road\, Suite G\, D'Iberville\, MS\, 39540\, United States
END:VEVENT
BEGIN:VEVENT
DTSTART;TZID=UTC:20260228T110000
DTEND;TZID=UTC:20260228T190000
DTSTAMP:20260422T181721
CREATED:20241106T194108Z
LAST-MODIFIED:20241106T194413Z
UID:10000800-1772276400-1772305200@www.mullethop.com
SUMMARY:Mullet Hop Birthday Parties
DESCRIPTION:Party Times:\n11am to 1 pm\n2pm to 4pm\n5pm to 7pm \nCALL FOR AVAILABLITY
URL:https://www.mullethop.com/event/mullet-hop-birthday-parties/2026-02-28/
LOCATION:Mullet Hop Trampoline Park\, 3200 Mallett Road\, Suite G\, D'Iberville\, MS\, 39540\, United States
END:VEVENT
BEGIN:VEVENT
DTSTART;TZID=UTC:20260301T110000
DTEND;TZID=UTC:20260301T190000
DTSTAMP:20260422T181721
CREATED:20241106T194250Z
LAST-MODIFIED:20241106T194351Z
UID:10001322-1772362800-1772391600@www.mullethop.com
SUMMARY:Mullet Hop Birthday Parties
DESCRIPTION:Party Times:\n11am to 1 pm\n2pm to 4pm\n5pm to 7pm \nCALL FOR AVAILABLITY
URL:https://www.mullethop.com/event/mullet-hop-birthday-parties-2/2026-03-01/
LOCATION:Mullet Hop Trampoline Park\, 3200 Mallett Road\, Suite G\, D'Iberville\, MS\, 39540\, United States
END:VEVENT
BEGIN:VEVENT
DTSTART;VALUE=DATE:20260303
DTEND;VALUE=DATE:20260304
DTSTAMP:20260422T181721
CREATED:20231214T233723Z
LAST-MODIFIED:20231214T233723Z
UID:10000437-1772496000-1772582399@www.mullethop.com
SUMMARY:2 for Tuesday!
DESCRIPTION:
URL:https://www.mullethop.com/event/2-for-tuesday/2026-03-03/
LOCATION:Mullet Hop Trampoline Park\, 3200 Mallett Road\, Suite G\, D'Iberville\, MS\, 39540\, United States
END:VEVENT
BEGIN:VEVENT
DTSTART;VALUE=DATE:20260305
DTEND;VALUE=DATE:20260306
DTSTAMP:20260422T181721
CREATED:20231214T233439Z
LAST-MODIFIED:20231214T233523Z
UID:10000173-1772668800-1772755199@www.mullethop.com
SUMMARY:$7 Thursday!
DESCRIPTION:
URL:https://www.mullethop.com/event/7-thursday/2026-03-05/
LOCATION:Mullet Hop Trampoline Park\, 3200 Mallett Road\, Suite G\, D'Iberville\, MS\, 39540\, United States
END:VEVENT
BEGIN:VEVENT
DTSTART;TZID=UTC:20260307T110000
DTEND;TZID=UTC:20260307T190000
DTSTAMP:20260422T181721
CREATED:20241106T194108Z
LAST-MODIFIED:20241106T194413Z
UID:10000801-1772881200-1772910000@www.mullethop.com
SUMMARY:Mullet Hop Birthday Parties
DESCRIPTION:Party Times:\n11am to 1 pm\n2pm to 4pm\n5pm to 7pm \nCALL FOR AVAILABLITY
URL:https://www.mullethop.com/event/mullet-hop-birthday-parties/2026-03-07/
LOCATION:Mullet Hop Trampoline Park\, 3200 Mallett Road\, Suite G\, D'Iberville\, MS\, 39540\, United States
END:VEVENT
BEGIN:VEVENT
DTSTART;TZID=UTC:20260308T110000
DTEND;TZID=UTC:20260308T190000
DTSTAMP:20260422T181721
CREATED:20241106T194250Z
LAST-MODIFIED:20241106T194351Z
UID:10001323-1772967600-1772996400@www.mullethop.com
SUMMARY:Mullet Hop Birthday Parties
DESCRIPTION:Party Times:\n11am to 1 pm\n2pm to 4pm\n5pm to 7pm \nCALL FOR AVAILABLITY
URL:https://www.mullethop.com/event/mullet-hop-birthday-parties-2/2026-03-08/
LOCATION:Mullet Hop Trampoline Park\, 3200 Mallett Road\, Suite G\, D'Iberville\, MS\, 39540\, United States
END:VEVENT
BEGIN:VEVENT
DTSTART;VALUE=DATE:20260310
DTEND;VALUE=DATE:20260311
DTSTAMP:20260422T181721
CREATED:20231214T233723Z
LAST-MODIFIED:20231214T233723Z
UID:10000438-1773100800-1773187199@www.mullethop.com
SUMMARY:2 for Tuesday!
DESCRIPTION:
URL:https://www.mullethop.com/event/2-for-tuesday/2026-03-10/
LOCATION:Mullet Hop Trampoline Park\, 3200 Mallett Road\, Suite G\, D'Iberville\, MS\, 39540\, United States
END:VEVENT
BEGIN:VEVENT
DTSTART;VALUE=DATE:20260312
DTEND;VALUE=DATE:20260313
DTSTAMP:20260422T181721
CREATED:20231214T233439Z
LAST-MODIFIED:20231214T233523Z
UID:10000174-1773273600-1773359999@www.mullethop.com
SUMMARY:$7 Thursday!
DESCRIPTION:
URL:https://www.mullethop.com/event/7-thursday/2026-03-12/
LOCATION:Mullet Hop Trampoline Park\, 3200 Mallett Road\, Suite G\, D'Iberville\, MS\, 39540\, United States
END:VEVENT
BEGIN:VEVENT
DTSTART;TZID=UTC:20260314T110000
DTEND;TZID=UTC:20260314T190000
DTSTAMP:20260422T181721
CREATED:20241106T194108Z
LAST-MODIFIED:20241106T194413Z
UID:10000802-1773486000-1773514800@www.mullethop.com
SUMMARY:Mullet Hop Birthday Parties
DESCRIPTION:Party Times:\n11am to 1 pm\n2pm to 4pm\n5pm to 7pm \nCALL FOR AVAILABLITY
URL:https://www.mullethop.com/event/mullet-hop-birthday-parties/2026-03-14/
LOCATION:Mullet Hop Trampoline Park\, 3200 Mallett Road\, Suite G\, D'Iberville\, MS\, 39540\, United States
END:VEVENT
BEGIN:VEVENT
DTSTART;TZID=UTC:20260315T110000
DTEND;TZID=UTC:20260315T190000
DTSTAMP:20260422T181721
CREATED:20241106T194250Z
LAST-MODIFIED:20241106T194351Z
UID:10001324-1773572400-1773601200@www.mullethop.com
SUMMARY:Mullet Hop Birthday Parties
DESCRIPTION:Party Times:\n11am to 1 pm\n2pm to 4pm\n5pm to 7pm \nCALL FOR AVAILABLITY
URL:https://www.mullethop.com/event/mullet-hop-birthday-parties-2/2026-03-15/
LOCATION:Mullet Hop Trampoline Park\, 3200 Mallett Road\, Suite G\, D'Iberville\, MS\, 39540\, United States
END:VEVENT
BEGIN:VEVENT
DTSTART;VALUE=DATE:20260317
DTEND;VALUE=DATE:20260318
DTSTAMP:20260422T181721
CREATED:20231214T233723Z
LAST-MODIFIED:20231214T233723Z
UID:10000439-1773705600-1773791999@www.mullethop.com
SUMMARY:2 for Tuesday!
DESCRIPTION:
URL:https://www.mullethop.com/event/2-for-tuesday/2026-03-17/
LOCATION:Mullet Hop Trampoline Park\, 3200 Mallett Road\, Suite G\, D'Iberville\, MS\, 39540\, United States
END:VEVENT
BEGIN:VEVENT
DTSTART;VALUE=DATE:20260319
DTEND;VALUE=DATE:20260320
DTSTAMP:20260422T181721
CREATED:20231214T233439Z
LAST-MODIFIED:20231214T233523Z
UID:10000175-1773878400-1773964799@www.mullethop.com
SUMMARY:$7 Thursday!
DESCRIPTION:
URL:https://www.mullethop.com/event/7-thursday/2026-03-19/
LOCATION:Mullet Hop Trampoline Park\, 3200 Mallett Road\, Suite G\, D'Iberville\, MS\, 39540\, United States
END:VEVENT
BEGIN:VEVENT
DTSTART;TZID=UTC:20260321T110000
DTEND;TZID=UTC:20260321T190000
DTSTAMP:20260422T181721
CREATED:20241106T194108Z
LAST-MODIFIED:20241106T194413Z
UID:10000803-1774090800-1774119600@www.mullethop.com
SUMMARY:Mullet Hop Birthday Parties
DESCRIPTION:Party Times:\n11am to 1 pm\n2pm to 4pm\n5pm to 7pm \nCALL FOR AVAILABLITY
URL:https://www.mullethop.com/event/mullet-hop-birthday-parties/2026-03-21/
LOCATION:Mullet Hop Trampoline Park\, 3200 Mallett Road\, Suite G\, D'Iberville\, MS\, 39540\, United States
END:VEVENT
BEGIN:VEVENT
DTSTART;TZID=UTC:20260322T110000
DTEND;TZID=UTC:20260322T190000
DTSTAMP:20260422T181721
CREATED:20241106T194250Z
LAST-MODIFIED:20241106T194351Z
UID:10001325-1774177200-1774206000@www.mullethop.com
SUMMARY:Mullet Hop Birthday Parties
DESCRIPTION:Party Times:\n11am to 1 pm\n2pm to 4pm\n5pm to 7pm \nCALL FOR AVAILABLITY
URL:https://www.mullethop.com/event/mullet-hop-birthday-parties-2/2026-03-22/
LOCATION:Mullet Hop Trampoline Park\, 3200 Mallett Road\, Suite G\, D'Iberville\, MS\, 39540\, United States
END:VEVENT
BEGIN:VEVENT
DTSTART;VALUE=DATE:20260324
DTEND;VALUE=DATE:20260325
DTSTAMP:20260422T181721
CREATED:20231214T233723Z
LAST-MODIFIED:20231214T233723Z
UID:10000440-1774310400-1774396799@www.mullethop.com
SUMMARY:2 for Tuesday!
DESCRIPTION:
URL:https://www.mullethop.com/event/2-for-tuesday/2026-03-24/
LOCATION:Mullet Hop Trampoline Park\, 3200 Mallett Road\, Suite G\, D'Iberville\, MS\, 39540\, United States
END:VEVENT
END:VCALENDAR