BEGIN:VCALENDAR
VERSION:2.0
PRODID:-//Mullet Hop Trampoline Park - ECPv6.15.20//NONSGML v1.0//EN
CALSCALE:GREGORIAN
METHOD:PUBLISH
X-ORIGINAL-URL:https://www.mullethop.com
X-WR-CALDESC:Events for Mullet Hop Trampoline Park
REFRESH-INTERVAL;VALUE=DURATION:PT1H
X-Robots-Tag:noindex
X-PUBLISHED-TTL:PT1H
BEGIN:VTIMEZONE
TZID:UTC
BEGIN:STANDARD
TZOFFSETFROM:+0000
TZOFFSETTO:+0000
TZNAME:UTC
DTSTART:20250101T000000
END:STANDARD
END:VTIMEZONE
BEGIN:VEVENT
DTSTART;TZID=UTC:20260607T110000
DTEND;TZID=UTC:20260607T190000
DTSTAMP:20260423T054530
CREATED:20241106T194250Z
LAST-MODIFIED:20241106T194351Z
UID:10001336-1780830000-1780858800@www.mullethop.com
SUMMARY:Mullet Hop Birthday Parties
DESCRIPTION:Party Times:\n11am to 1 pm\n2pm to 4pm\n5pm to 7pm \nCALL FOR AVAILABLITY
URL:https://www.mullethop.com/event/mullet-hop-birthday-parties-2/2026-06-07/
LOCATION:Mullet Hop Trampoline Park\, 3200 Mallett Road\, Suite G\, D'Iberville\, MS\, 39540\, United States
END:VEVENT
BEGIN:VEVENT
DTSTART;VALUE=DATE:20260609
DTEND;VALUE=DATE:20260610
DTSTAMP:20260423T054530
CREATED:20231214T233723Z
LAST-MODIFIED:20231214T233723Z
UID:10000451-1780963200-1781049599@www.mullethop.com
SUMMARY:2 for Tuesday!
DESCRIPTION:
URL:https://www.mullethop.com/event/2-for-tuesday/2026-06-09/
LOCATION:Mullet Hop Trampoline Park\, 3200 Mallett Road\, Suite G\, D'Iberville\, MS\, 39540\, United States
END:VEVENT
BEGIN:VEVENT
DTSTART;VALUE=DATE:20260611
DTEND;VALUE=DATE:20260612
DTSTAMP:20260423T054530
CREATED:20231214T233439Z
LAST-MODIFIED:20231214T233523Z
UID:10000187-1781136000-1781222399@www.mullethop.com
SUMMARY:$7 Thursday!
DESCRIPTION:
URL:https://www.mullethop.com/event/7-thursday/2026-06-11/
LOCATION:Mullet Hop Trampoline Park\, 3200 Mallett Road\, Suite G\, D'Iberville\, MS\, 39540\, United States
END:VEVENT
BEGIN:VEVENT
DTSTART;TZID=UTC:20260613T110000
DTEND;TZID=UTC:20260613T190000
DTSTAMP:20260423T054530
CREATED:20241106T194108Z
LAST-MODIFIED:20241106T194413Z
UID:10000815-1781348400-1781377200@www.mullethop.com
SUMMARY:Mullet Hop Birthday Parties
DESCRIPTION:Party Times:\n11am to 1 pm\n2pm to 4pm\n5pm to 7pm \nCALL FOR AVAILABLITY
URL:https://www.mullethop.com/event/mullet-hop-birthday-parties/2026-06-13/
LOCATION:Mullet Hop Trampoline Park\, 3200 Mallett Road\, Suite G\, D'Iberville\, MS\, 39540\, United States
END:VEVENT
BEGIN:VEVENT
DTSTART;TZID=UTC:20260614T110000
DTEND;TZID=UTC:20260614T190000
DTSTAMP:20260423T054530
CREATED:20241106T194250Z
LAST-MODIFIED:20241106T194351Z
UID:10001337-1781434800-1781463600@www.mullethop.com
SUMMARY:Mullet Hop Birthday Parties
DESCRIPTION:Party Times:\n11am to 1 pm\n2pm to 4pm\n5pm to 7pm \nCALL FOR AVAILABLITY
URL:https://www.mullethop.com/event/mullet-hop-birthday-parties-2/2026-06-14/
LOCATION:Mullet Hop Trampoline Park\, 3200 Mallett Road\, Suite G\, D'Iberville\, MS\, 39540\, United States
END:VEVENT
BEGIN:VEVENT
DTSTART;VALUE=DATE:20260616
DTEND;VALUE=DATE:20260617
DTSTAMP:20260423T054530
CREATED:20231214T233723Z
LAST-MODIFIED:20231214T233723Z
UID:10000452-1781568000-1781654399@www.mullethop.com
SUMMARY:2 for Tuesday!
DESCRIPTION:
URL:https://www.mullethop.com/event/2-for-tuesday/2026-06-16/
LOCATION:Mullet Hop Trampoline Park\, 3200 Mallett Road\, Suite G\, D'Iberville\, MS\, 39540\, United States
END:VEVENT
BEGIN:VEVENT
DTSTART;VALUE=DATE:20260618
DTEND;VALUE=DATE:20260619
DTSTAMP:20260423T054530
CREATED:20231214T233439Z
LAST-MODIFIED:20231214T233523Z
UID:10000188-1781740800-1781827199@www.mullethop.com
SUMMARY:$7 Thursday!
DESCRIPTION:
URL:https://www.mullethop.com/event/7-thursday/2026-06-18/
LOCATION:Mullet Hop Trampoline Park\, 3200 Mallett Road\, Suite G\, D'Iberville\, MS\, 39540\, United States
END:VEVENT
BEGIN:VEVENT
DTSTART;TZID=UTC:20260620T110000
DTEND;TZID=UTC:20260620T190000
DTSTAMP:20260423T054530
CREATED:20241106T194108Z
LAST-MODIFIED:20241106T194413Z
UID:10000816-1781953200-1781982000@www.mullethop.com
SUMMARY:Mullet Hop Birthday Parties
DESCRIPTION:Party Times:\n11am to 1 pm\n2pm to 4pm\n5pm to 7pm \nCALL FOR AVAILABLITY
URL:https://www.mullethop.com/event/mullet-hop-birthday-parties/2026-06-20/
LOCATION:Mullet Hop Trampoline Park\, 3200 Mallett Road\, Suite G\, D'Iberville\, MS\, 39540\, United States
END:VEVENT
BEGIN:VEVENT
DTSTART;TZID=UTC:20260621T110000
DTEND;TZID=UTC:20260621T190000
DTSTAMP:20260423T054530
CREATED:20241106T194250Z
LAST-MODIFIED:20241106T194351Z
UID:10001338-1782039600-1782068400@www.mullethop.com
SUMMARY:Mullet Hop Birthday Parties
DESCRIPTION:Party Times:\n11am to 1 pm\n2pm to 4pm\n5pm to 7pm \nCALL FOR AVAILABLITY
URL:https://www.mullethop.com/event/mullet-hop-birthday-parties-2/2026-06-21/
LOCATION:Mullet Hop Trampoline Park\, 3200 Mallett Road\, Suite G\, D'Iberville\, MS\, 39540\, United States
END:VEVENT
BEGIN:VEVENT
DTSTART;VALUE=DATE:20260623
DTEND;VALUE=DATE:20260624
DTSTAMP:20260423T054530
CREATED:20231214T233723Z
LAST-MODIFIED:20231214T233723Z
UID:10000453-1782172800-1782259199@www.mullethop.com
SUMMARY:2 for Tuesday!
DESCRIPTION:
URL:https://www.mullethop.com/event/2-for-tuesday/2026-06-23/
LOCATION:Mullet Hop Trampoline Park\, 3200 Mallett Road\, Suite G\, D'Iberville\, MS\, 39540\, United States
END:VEVENT
BEGIN:VEVENT
DTSTART;VALUE=DATE:20260625
DTEND;VALUE=DATE:20260626
DTSTAMP:20260423T054530
CREATED:20231214T233439Z
LAST-MODIFIED:20231214T233523Z
UID:10000189-1782345600-1782431999@www.mullethop.com
SUMMARY:$7 Thursday!
DESCRIPTION:
URL:https://www.mullethop.com/event/7-thursday/2026-06-25/
LOCATION:Mullet Hop Trampoline Park\, 3200 Mallett Road\, Suite G\, D'Iberville\, MS\, 39540\, United States
END:VEVENT
BEGIN:VEVENT
DTSTART;TZID=UTC:20260627T110000
DTEND;TZID=UTC:20260627T190000
DTSTAMP:20260423T054530
CREATED:20241106T194108Z
LAST-MODIFIED:20241106T194413Z
UID:10000817-1782558000-1782586800@www.mullethop.com
SUMMARY:Mullet Hop Birthday Parties
DESCRIPTION:Party Times:\n11am to 1 pm\n2pm to 4pm\n5pm to 7pm \nCALL FOR AVAILABLITY
URL:https://www.mullethop.com/event/mullet-hop-birthday-parties/2026-06-27/
LOCATION:Mullet Hop Trampoline Park\, 3200 Mallett Road\, Suite G\, D'Iberville\, MS\, 39540\, United States
END:VEVENT
BEGIN:VEVENT
DTSTART;TZID=UTC:20260628T110000
DTEND;TZID=UTC:20260628T190000
DTSTAMP:20260423T054530
CREATED:20241106T194250Z
LAST-MODIFIED:20241106T194351Z
UID:10001339-1782644400-1782673200@www.mullethop.com
SUMMARY:Mullet Hop Birthday Parties
DESCRIPTION:Party Times:\n11am to 1 pm\n2pm to 4pm\n5pm to 7pm \nCALL FOR AVAILABLITY
URL:https://www.mullethop.com/event/mullet-hop-birthday-parties-2/2026-06-28/
LOCATION:Mullet Hop Trampoline Park\, 3200 Mallett Road\, Suite G\, D'Iberville\, MS\, 39540\, United States
END:VEVENT
BEGIN:VEVENT
DTSTART;VALUE=DATE:20260630
DTEND;VALUE=DATE:20260701
DTSTAMP:20260423T054530
CREATED:20231214T233723Z
LAST-MODIFIED:20231214T233723Z
UID:10000454-1782777600-1782863999@www.mullethop.com
SUMMARY:2 for Tuesday!
DESCRIPTION:
URL:https://www.mullethop.com/event/2-for-tuesday/2026-06-30/
LOCATION:Mullet Hop Trampoline Park\, 3200 Mallett Road\, Suite G\, D'Iberville\, MS\, 39540\, United States
END:VEVENT
BEGIN:VEVENT
DTSTART;VALUE=DATE:20260702
DTEND;VALUE=DATE:20260703
DTSTAMP:20260423T054530
CREATED:20231214T233439Z
LAST-MODIFIED:20231214T233523Z
UID:10000190-1782950400-1783036799@www.mullethop.com
SUMMARY:$7 Thursday!
DESCRIPTION:
URL:https://www.mullethop.com/event/7-thursday/2026-07-02/
LOCATION:Mullet Hop Trampoline Park\, 3200 Mallett Road\, Suite G\, D'Iberville\, MS\, 39540\, United States
END:VEVENT
BEGIN:VEVENT
DTSTART;TZID=UTC:20260704T110000
DTEND;TZID=UTC:20260704T190000
DTSTAMP:20260423T054530
CREATED:20241106T194108Z
LAST-MODIFIED:20241106T194413Z
UID:10000818-1783162800-1783191600@www.mullethop.com
SUMMARY:Mullet Hop Birthday Parties
DESCRIPTION:Party Times:\n11am to 1 pm\n2pm to 4pm\n5pm to 7pm \nCALL FOR AVAILABLITY
URL:https://www.mullethop.com/event/mullet-hop-birthday-parties/2026-07-04/
LOCATION:Mullet Hop Trampoline Park\, 3200 Mallett Road\, Suite G\, D'Iberville\, MS\, 39540\, United States
END:VEVENT
BEGIN:VEVENT
DTSTART;TZID=UTC:20260705T110000
DTEND;TZID=UTC:20260705T190000
DTSTAMP:20260423T054530
CREATED:20241106T194250Z
LAST-MODIFIED:20241106T194351Z
UID:10001340-1783249200-1783278000@www.mullethop.com
SUMMARY:Mullet Hop Birthday Parties
DESCRIPTION:Party Times:\n11am to 1 pm\n2pm to 4pm\n5pm to 7pm \nCALL FOR AVAILABLITY
URL:https://www.mullethop.com/event/mullet-hop-birthday-parties-2/2026-07-05/
LOCATION:Mullet Hop Trampoline Park\, 3200 Mallett Road\, Suite G\, D'Iberville\, MS\, 39540\, United States
END:VEVENT
BEGIN:VEVENT
DTSTART;VALUE=DATE:20260707
DTEND;VALUE=DATE:20260708
DTSTAMP:20260423T054530
CREATED:20231214T233723Z
LAST-MODIFIED:20231214T233723Z
UID:10000455-1783382400-1783468799@www.mullethop.com
SUMMARY:2 for Tuesday!
DESCRIPTION:
URL:https://www.mullethop.com/event/2-for-tuesday/2026-07-07/
LOCATION:Mullet Hop Trampoline Park\, 3200 Mallett Road\, Suite G\, D'Iberville\, MS\, 39540\, United States
END:VEVENT
BEGIN:VEVENT
DTSTART;VALUE=DATE:20260709
DTEND;VALUE=DATE:20260710
DTSTAMP:20260423T054530
CREATED:20231214T233439Z
LAST-MODIFIED:20231214T233523Z
UID:10000191-1783555200-1783641599@www.mullethop.com
SUMMARY:$7 Thursday!
DESCRIPTION:
URL:https://www.mullethop.com/event/7-thursday/2026-07-09/
LOCATION:Mullet Hop Trampoline Park\, 3200 Mallett Road\, Suite G\, D'Iberville\, MS\, 39540\, United States
END:VEVENT
BEGIN:VEVENT
DTSTART;TZID=UTC:20260711T110000
DTEND;TZID=UTC:20260711T190000
DTSTAMP:20260423T054530
CREATED:20241106T194108Z
LAST-MODIFIED:20241106T194413Z
UID:10000819-1783767600-1783796400@www.mullethop.com
SUMMARY:Mullet Hop Birthday Parties
DESCRIPTION:Party Times:\n11am to 1 pm\n2pm to 4pm\n5pm to 7pm \nCALL FOR AVAILABLITY
URL:https://www.mullethop.com/event/mullet-hop-birthday-parties/2026-07-11/
LOCATION:Mullet Hop Trampoline Park\, 3200 Mallett Road\, Suite G\, D'Iberville\, MS\, 39540\, United States
END:VEVENT
BEGIN:VEVENT
DTSTART;TZID=UTC:20260712T110000
DTEND;TZID=UTC:20260712T190000
DTSTAMP:20260423T054530
CREATED:20241106T194250Z
LAST-MODIFIED:20241106T194351Z
UID:10001341-1783854000-1783882800@www.mullethop.com
SUMMARY:Mullet Hop Birthday Parties
DESCRIPTION:Party Times:\n11am to 1 pm\n2pm to 4pm\n5pm to 7pm \nCALL FOR AVAILABLITY
URL:https://www.mullethop.com/event/mullet-hop-birthday-parties-2/2026-07-12/
LOCATION:Mullet Hop Trampoline Park\, 3200 Mallett Road\, Suite G\, D'Iberville\, MS\, 39540\, United States
END:VEVENT
BEGIN:VEVENT
DTSTART;VALUE=DATE:20260714
DTEND;VALUE=DATE:20260715
DTSTAMP:20260423T054530
CREATED:20231214T233723Z
LAST-MODIFIED:20231214T233723Z
UID:10000456-1783987200-1784073599@www.mullethop.com
SUMMARY:2 for Tuesday!
DESCRIPTION:
URL:https://www.mullethop.com/event/2-for-tuesday/2026-07-14/
LOCATION:Mullet Hop Trampoline Park\, 3200 Mallett Road\, Suite G\, D'Iberville\, MS\, 39540\, United States
END:VEVENT
BEGIN:VEVENT
DTSTART;VALUE=DATE:20260716
DTEND;VALUE=DATE:20260717
DTSTAMP:20260423T054530
CREATED:20231214T233439Z
LAST-MODIFIED:20231214T233523Z
UID:10000192-1784160000-1784246399@www.mullethop.com
SUMMARY:$7 Thursday!
DESCRIPTION:
URL:https://www.mullethop.com/event/7-thursday/2026-07-16/
LOCATION:Mullet Hop Trampoline Park\, 3200 Mallett Road\, Suite G\, D'Iberville\, MS\, 39540\, United States
END:VEVENT
BEGIN:VEVENT
DTSTART;TZID=UTC:20260718T110000
DTEND;TZID=UTC:20260718T190000
DTSTAMP:20260423T054530
CREATED:20241106T194108Z
LAST-MODIFIED:20241106T194413Z
UID:10000820-1784372400-1784401200@www.mullethop.com
SUMMARY:Mullet Hop Birthday Parties
DESCRIPTION:Party Times:\n11am to 1 pm\n2pm to 4pm\n5pm to 7pm \nCALL FOR AVAILABLITY
URL:https://www.mullethop.com/event/mullet-hop-birthday-parties/2026-07-18/
LOCATION:Mullet Hop Trampoline Park\, 3200 Mallett Road\, Suite G\, D'Iberville\, MS\, 39540\, United States
END:VEVENT
BEGIN:VEVENT
DTSTART;TZID=UTC:20260719T110000
DTEND;TZID=UTC:20260719T190000
DTSTAMP:20260423T054530
CREATED:20241106T194250Z
LAST-MODIFIED:20241106T194351Z
UID:10001342-1784458800-1784487600@www.mullethop.com
SUMMARY:Mullet Hop Birthday Parties
DESCRIPTION:Party Times:\n11am to 1 pm\n2pm to 4pm\n5pm to 7pm \nCALL FOR AVAILABLITY
URL:https://www.mullethop.com/event/mullet-hop-birthday-parties-2/2026-07-19/
LOCATION:Mullet Hop Trampoline Park\, 3200 Mallett Road\, Suite G\, D'Iberville\, MS\, 39540\, United States
END:VEVENT
BEGIN:VEVENT
DTSTART;VALUE=DATE:20260721
DTEND;VALUE=DATE:20260722
DTSTAMP:20260423T054530
CREATED:20231214T233723Z
LAST-MODIFIED:20231214T233723Z
UID:10000457-1784592000-1784678399@www.mullethop.com
SUMMARY:2 for Tuesday!
DESCRIPTION:
URL:https://www.mullethop.com/event/2-for-tuesday/2026-07-21/
LOCATION:Mullet Hop Trampoline Park\, 3200 Mallett Road\, Suite G\, D'Iberville\, MS\, 39540\, United States
END:VEVENT
BEGIN:VEVENT
DTSTART;VALUE=DATE:20260723
DTEND;VALUE=DATE:20260724
DTSTAMP:20260423T054530
CREATED:20231214T233439Z
LAST-MODIFIED:20231214T233523Z
UID:10000193-1784764800-1784851199@www.mullethop.com
SUMMARY:$7 Thursday!
DESCRIPTION:
URL:https://www.mullethop.com/event/7-thursday/2026-07-23/
LOCATION:Mullet Hop Trampoline Park\, 3200 Mallett Road\, Suite G\, D'Iberville\, MS\, 39540\, United States
END:VEVENT
BEGIN:VEVENT
DTSTART;TZID=UTC:20260725T110000
DTEND;TZID=UTC:20260725T190000
DTSTAMP:20260423T054530
CREATED:20241106T194108Z
LAST-MODIFIED:20241106T194413Z
UID:10000821-1784977200-1785006000@www.mullethop.com
SUMMARY:Mullet Hop Birthday Parties
DESCRIPTION:Party Times:\n11am to 1 pm\n2pm to 4pm\n5pm to 7pm \nCALL FOR AVAILABLITY
URL:https://www.mullethop.com/event/mullet-hop-birthday-parties/2026-07-25/
LOCATION:Mullet Hop Trampoline Park\, 3200 Mallett Road\, Suite G\, D'Iberville\, MS\, 39540\, United States
END:VEVENT
BEGIN:VEVENT
DTSTART;TZID=UTC:20260726T110000
DTEND;TZID=UTC:20260726T190000
DTSTAMP:20260423T054530
CREATED:20241106T194250Z
LAST-MODIFIED:20241106T194351Z
UID:10001343-1785063600-1785092400@www.mullethop.com
SUMMARY:Mullet Hop Birthday Parties
DESCRIPTION:Party Times:\n11am to 1 pm\n2pm to 4pm\n5pm to 7pm \nCALL FOR AVAILABLITY
URL:https://www.mullethop.com/event/mullet-hop-birthday-parties-2/2026-07-26/
LOCATION:Mullet Hop Trampoline Park\, 3200 Mallett Road\, Suite G\, D'Iberville\, MS\, 39540\, United States
END:VEVENT
BEGIN:VEVENT
DTSTART;VALUE=DATE:20260728
DTEND;VALUE=DATE:20260729
DTSTAMP:20260423T054530
CREATED:20231214T233723Z
LAST-MODIFIED:20231214T233723Z
UID:10000458-1785196800-1785283199@www.mullethop.com
SUMMARY:2 for Tuesday!
DESCRIPTION:
URL:https://www.mullethop.com/event/2-for-tuesday/2026-07-28/
LOCATION:Mullet Hop Trampoline Park\, 3200 Mallett Road\, Suite G\, D'Iberville\, MS\, 39540\, United States
END:VEVENT
END:VCALENDAR